BEGIN:VCALENDAR
VERSION:2.0
PRODID:-//Drupal iCal API//EN
X-WR-CALNAME:Events items teaser
X-WR-TIMEZONE:America/Toronto
BEGIN:VTIMEZONE
TZID:America/Toronto
X-LIC-LOCATION:America/Toronto
BEGIN:DAYLIGHT
TZNAME:EDT
TZOFFSETFROM:-0500
TZOFFSETTO:-0400
DTSTART:20260308T070000
END:DAYLIGHT
BEGIN:STANDARD
TZNAME:EST
TZOFFSETFROM:-0400
TZOFFSETTO:-0500
DTSTART:20251102T060000
END:STANDARD
END:VTIMEZONE
BEGIN:VEVENT
UID:69d6a8ada21b8
DTSTART;TZID=America/Toronto:20260407T150000
SEQUENCE:0
TRANSP:TRANSPARENT
DTEND;TZID=America/Toronto:20260407T160000
URL:https://uwaterloo.ca/staff-conference/events/change-speed-why-people-ma
 ke-difference
SUMMARY:Change at Speed: Why People Make the Difference
CLASS:PUBLIC
DESCRIPTION:Through real UW examples\, highlighting the Sustainable Transpo
 rtation\nteam\, this session will walk you through the journey of how chan
 ge was\nsuccessfully delivered by focusing on people: engaging them early\
 ,\nenabling them with the right tools and clarity\, and supporting them\nt
 hroughout the process. Discover how the Sustainable Transportation\nteam a
 chieved more than 30 meaningful improvements in a single year\,\nwithout i
 ncreasing workload. Human commitment\, shared understanding\,\nand strong 
 collaboration drove practical lessons learned. Come and\nexplore what work
 ed\, what didn’t\, and what surprised us - enabling\nyou to apply simila
 r approaches in your own work.
DTSTAMP:20260408T191245Z
END:VEVENT
END:VCALENDAR