BEGIN:VCALENDAR
VERSION:2.0
PRODID:-//Drupal iCal API//EN
X-WR-CALNAME:Events items teaser
X-WR-TIMEZONE:America/Toronto
BEGIN:VTIMEZONE
TZID:America/Toronto
X-LIC-LOCATION:America/Toronto
BEGIN:DAYLIGHT
TZNAME:EDT
TZOFFSETFROM:-0500
TZOFFSETTO:-0400
DTSTART:20250309T070000
END:DAYLIGHT
BEGIN:STANDARD
TZNAME:EST
TZOFFSETFROM:-0400
TZOFFSETTO:-0500
DTSTART:20241103T060000
END:STANDARD
END:VTIMEZONE
BEGIN:VEVENT
UID:69d7496a233f5
DTSTART;TZID=America/Toronto:20250409T143000
SEQUENCE:0
TRANSP:TRANSPARENT
DTEND;TZID=America/Toronto:20250409T160000
URL:https://uwaterloo.ca/staff-conference/events/closing-keynote-dane-jense
 n-pressure-equation
SUMMARY:Closing Keynote - Dane Jensen: The Pressure Equation
CLASS:PUBLIC
DESCRIPTION:[Headshot of Dane Jensen]\nHow we navigate periods of intense p
 ressure has a huge impact on the\ntrajectory of our lives. It impacts how 
 successful we are in our\ncareers\, how much we enjoy the journey\, and ho
 w much regret we carry.\nDrawing insights from his book\, The Power of Pre
 ssure: Why Pressure\nIsn’t the Problem\, It’s the Solution\n[https://w
 ww.thirdfactor.com/the-power-of-pressure/]\, Dane Jensen’s\nkeynote intr
 oduces three powerful strategies for using pressure as an\nadvantage. You 
 will hear unforgettable stories of pressure\, learn\npractical skills for 
 performing in peak moments and over the long\nhaul\, and come away with re
 newed energy for tackling the biggest\nsources of pressure in their lives.
  
DTSTAMP:20260409T063834Z
END:VEVENT
END:VCALENDAR