BEGIN:VCALENDAR
VERSION:2.0
PRODID:-//Drupal iCal API//EN
X-WR-CALNAME:Events items teaser
X-WR-TIMEZONE:America/Toronto
BEGIN:VTIMEZONE
TZID:America/Toronto
X-LIC-LOCATION:America/Toronto
BEGIN:DAYLIGHT
TZNAME:EDT
TZOFFSETFROM:-0500
TZOFFSETTO:-0400
DTSTART:20230312T070000
END:DAYLIGHT
BEGIN:STANDARD
TZNAME:EST
TZOFFSETFROM:-0400
TZOFFSETTO:-0500
DTSTART:20231105T060000
END:STANDARD
END:VTIMEZONE
BEGIN:VEVENT
UID:69e6a264a339b
DTSTART;TZID=America/Toronto:20240228T090000
SEQUENCE:0
TRANSP:TRANSPARENT
DTEND;TZID=America/Toronto:20240228T160000
URL:https://uwaterloo.ca/statistical-consulting-survey-research-unit/events
 /how-guide-developing-survey-questionnaires
LOCATION:DC - William G. Davis Computer Research Centre 200 University Aven
 ue West DC 1568 Waterloo ON N2L 3G1 Canada
SUMMARY:The How-To Guide for Developing Survey Questionnaires
CLASS:PUBLIC
DESCRIPTION:In this one-day workshop\, drawing on Dr. Sarah Wilkins-Laflamm
 e’s 10\nyears of experience running national and international surveys\,
  we\nwill review the key steps in developing high-quality survey questions
 \nand questionnaires along with tips for achieving precise\, relevant and\
 naccessible measures when collecting survey data via smartphone\,\ntablet\
 , computer\, in-person interview\, telephone interview\, and\nmail. \n\nT
 he workshop will be held in DC 1568. Registration is free for all\nstudent
 s\, faculty and staff at the University of Waterloo.
DTSTAMP:20260420T220212Z
END:VEVENT
END:VCALENDAR