BEGIN:VCALENDAR
VERSION:2.0
PRODID:-//Drupal iCal API//EN
X-WR-CALNAME:Events items teaser
X-WR-TIMEZONE:America/Toronto
BEGIN:VTIMEZONE
TZID:America/Toronto
X-LIC-LOCATION:America/Toronto
BEGIN:DAYLIGHT
TZNAME:EDT
TZOFFSETFROM:-0500
TZOFFSETTO:-0400
DTSTART:20230312T070000
END:DAYLIGHT
BEGIN:STANDARD
TZNAME:EST
TZOFFSETFROM:-0400
TZOFFSETTO:-0500
DTSTART:20231105T060000
END:STANDARD
END:VTIMEZONE
BEGIN:VEVENT
UID:69e6fb7b00ecf
DTSTART;TZID=America/Toronto:20240214T093000
SEQUENCE:0
TRANSP:TRANSPARENT
DTEND;TZID=America/Toronto:20240214T113000
URL:https://uwaterloo.ca/statistical-consulting-survey-research-unit/events
 /introduction-exploratory-data-analysis-r
LOCATION:DC - William G. Davis Computer Research Centre 200 University Aven
 ue West DC 1568 Waterloo ON N2L 3G1 Canada
SUMMARY:Introduction to Exploratory Data Analysis with R
CLASS:PUBLIC
DESCRIPTION:In this workshop\, participants will learn to perform analysis 
 using an\napproach that identifies general patterns in the data.\n\nRegist
 ration is free to all students\, faculty and staff at the\nUniversity of W
 aterloo.
DTSTAMP:20260421T042219Z
END:VEVENT
END:VCALENDAR