BEGIN:VCALENDAR
VERSION:2.0
PRODID:-//Drupal iCal API//EN
X-WR-CALNAME:Events items teaser
X-WR-TIMEZONE:America/Toronto
BEGIN:VTIMEZONE
TZID:America/Toronto
X-LIC-LOCATION:America/Toronto
BEGIN:DAYLIGHT
TZNAME:EDT
TZOFFSETFROM:-0500
TZOFFSETTO:-0400
DTSTART:20240310T070000
END:DAYLIGHT
BEGIN:STANDARD
TZNAME:EST
TZOFFSETFROM:-0400
TZOFFSETTO:-0500
DTSTART:20231105T060000
END:STANDARD
END:VTIMEZONE
BEGIN:VEVENT
UID:69e6f5a9b6992
DTSTART;TZID=America/Toronto:20240327T093000
SEQUENCE:0
TRANSP:TRANSPARENT
DTEND;TZID=America/Toronto:20240327T160000
URL:https://uwaterloo.ca/statistical-consulting-survey-research-unit/events
 /survey-programming-qualtrics
LOCATION:DC - William G. Davis Computer Research Centre 200 University Aven
 ue West DC 1568 Waterloo ON N2L 3G1 Canada
SUMMARY:Survey Programming in Qualtrics
CLASS:PUBLIC
DESCRIPTION:Learn how to use Qualtrics to create and launch a survey. The g
 oal of\nthis workshop is to provide an overview of the whole process along
 \nwith some hands-on exercises. The workshop will start with instruction\n
 on how to build a survey\, then will cover getting it ready for the\nfield
 \, and finish with showing users how to distribute\, monitor\, and\nextrac
 t their data.\n\nRegistration is free to all students\, faculty and staff 
 at the\nUniversity of Waterloo.
DTSTAMP:20260421T035729Z
END:VEVENT
END:VCALENDAR