BEGIN:VCALENDAR
VERSION:2.0
PRODID:-//Drupal iCal API//EN
X-WR-CALNAME:Events items teaser
X-WR-TIMEZONE:America/Toronto
BEGIN:VTIMEZONE
TZID:America/Toronto
X-LIC-LOCATION:America/Toronto
BEGIN:DAYLIGHT
TZNAME:EDT
TZOFFSETFROM:-0500
TZOFFSETTO:-0400
DTSTART:20240310T070000
END:DAYLIGHT
BEGIN:STANDARD
TZNAME:EST
TZOFFSETFROM:-0400
TZOFFSETTO:-0500
DTSTART:20231105T060000
END:STANDARD
END:VTIMEZONE
BEGIN:VEVENT
UID:69e6fda72ad28
DTSTART;TZID=America/Toronto:20240320T093000
SEQUENCE:0
TRANSP:TRANSPARENT
DTEND;TZID=America/Toronto:20240320T113000
URL:https://uwaterloo.ca/statistical-consulting-survey-research-unit/events
 /introduction-linear-regression
LOCATION:DC - William G. Davis Computer Research Centre 200 University Aven
 ue West DC 1568 Waterloo ON N2L 3G1 Canada
SUMMARY:An Introduction to Linear Regression
CLASS:PUBLIC
DESCRIPTION:Linear regression models\, also known as linear models\, are wi
 dely used\nin various applications and research. It is one of the most pop
 ular\nmodels out there because of its simplicity and easy interpretation.
  
DTSTAMP:20260421T043135Z
END:VEVENT
END:VCALENDAR