BEGIN:VCALENDAR
VERSION:2.0
PRODID:-//Drupal iCal API//EN
X-WR-CALNAME:Events items teaser
X-WR-TIMEZONE:America/Toronto
BEGIN:VTIMEZONE
TZID:America/Toronto
X-LIC-LOCATION:America/Toronto
BEGIN:DAYLIGHT
TZNAME:EDT
TZOFFSETFROM:-0500
TZOFFSETTO:-0400
DTSTART:20250309T070000
END:DAYLIGHT
BEGIN:STANDARD
TZNAME:EST
TZOFFSETFROM:-0400
TZOFFSETTO:-0500
DTSTART:20241103T060000
END:STANDARD
END:VTIMEZONE
BEGIN:VEVENT
UID:69e6948f3f1c2
DTSTART;TZID=America/Toronto:20250422T130000
SEQUENCE:0
TRANSP:TRANSPARENT
DTEND;TZID=America/Toronto:20250422T140000
URL:https://uwaterloo.ca/statistical-consulting-survey-research-unit/events
 /roundtable-discussion-bots-fraudulent-data-survey-research
SUMMARY:Roundtable Discussion: Bots &amp; Fraudulent Data in Survey Research
CLASS:PUBLIC
DESCRIPTION:Join a panel of experts for a thought-provoking conversation on
  the\nimpact of bots and fraudulent data in survey research. We’ll explo
 re\nbest practices for detecting and preventing bot participation\,\nident
 ifying and cleaning fraudulent data\, and addressing the\nchallenges posed
  by imposter respondents.
DTSTAMP:20260420T210311Z
END:VEVENT
END:VCALENDAR