BEGIN:VCALENDAR
VERSION:2.0
PRODID:-//Drupal iCal API//EN
X-WR-CALNAME:Events items teaser
X-WR-TIMEZONE:America/Toronto
BEGIN:VTIMEZONE
TZID:America/Toronto
X-LIC-LOCATION:America/Toronto
BEGIN:DAYLIGHT
TZNAME:EDT
TZOFFSETFROM:-0500
TZOFFSETTO:-0400
DTSTART:20260308T070000
END:DAYLIGHT
BEGIN:STANDARD
TZNAME:EST
TZOFFSETFROM:-0400
TZOFFSETTO:-0500
DTSTART:20251102T060000
END:STANDARD
END:VTIMEZONE
BEGIN:VEVENT
UID:69e68f13e5261
DTSTART;TZID=America/Toronto:20260324T130000
SEQUENCE:0
TRANSP:TRANSPARENT
DTEND;TZID=America/Toronto:20260324T160000
URL:https://uwaterloo.ca/statistical-consulting-survey-research-unit/events
 /sampling-survey-research-w26
LOCATION:DC - William G. Davis Computer Research Centre 200 University Aven
 ue West DC 1568 Waterloo ON N2L 3G1 Canada
SUMMARY:Sampling in Survey Research
CLASS:PUBLIC
DESCRIPTION:Once you have found your research topic and landed on research\
 nquestions you aim to answer with survey data from human research\npartici
 pants\, then it is time to decide who to observe and gather\ninformation f
 rom. Sampling\, the process of selecting the people you\nare going to gath
 er data from with your survey\, is a crucial step in\nthe data collection 
 process. It is essential to consider the best\nway(s) to select your sampl
 e\, given the resources (time\, money\,\naccess\, etc.) available to you\,
  to achieve the best-quality sample\,\nand thus the best quality data\, po
 ssible. This workshop delves into\nthe art of sampling in survey research\
 , and reviews current best\npractices for a variety of sampling procedures
  available to\nresearchers in Canada.
DTSTAMP:20260420T203947Z
END:VEVENT
END:VCALENDAR