BEGIN:VCALENDAR
VERSION:2.0
PRODID:-//Drupal iCal API//EN
X-WR-CALNAME:Events items teaser
X-WR-TIMEZONE:America/Toronto
BEGIN:VTIMEZONE
TZID:America/Toronto
X-LIC-LOCATION:America/Toronto
BEGIN:DAYLIGHT
TZNAME:EDT
TZOFFSETFROM:-0500
TZOFFSETTO:-0400
DTSTART:20230312T070000
END:DAYLIGHT
BEGIN:STANDARD
TZNAME:EST
TZOFFSETFROM:-0400
TZOFFSETTO:-0500
DTSTART:20231105T060000
END:STANDARD
END:VTIMEZONE
BEGIN:VEVENT
UID:69e716cd92f9e
DTSTART;VALUE=DATE:20231206
SEQUENCE:0
TRANSP:TRANSPARENT
DTEND;VALUE=DATE:20231207
URL:https://uwaterloo.ca/statistical-consulting-survey-research-unit/events
 /analysis-survey-data-101-and-beyond
LOCATION:M3 - Mathematics 3 200 University Avenue West M3 3127 Waterloo ON 
 N2L 3G1 Canada
SUMMARY:Analysis of Survey Data: 101 and Beyond
CLASS:PUBLIC
DESCRIPTION:Though the workshop will not go into mathematical details and p
 roofs\,\nit will provide some reasoning and intuition behind the key formu
 las\nused in survey sampling. It will also look at various examples using\
 nthe statistical software SAS (free to students\, faculty and staff at\nth
 e University of Waterloo). In addition to illustrating basic data\nanalysi
 s techniques\, those examples aim to provide guidance on some of\nthe pitf
 alls of analysing survey data. Part 3 is a practical hands-on\nopportunity
  for participants to conduct basic data analysis using SAS\non their own l
 aptop.\n\nThis is two-day workshop will be held in M3 3127. Registration i
 s free\nfor all members of the university.
X-MICROSOFT-CDO-ALLDAYEVENT:TRUE
DTSTAMP:20260421T061853Z
END:VEVENT
END:VCALENDAR