BEGIN:VCALENDAR
VERSION:2.0
PRODID:-//Drupal iCal API//EN
X-WR-CALNAME:Events items teaser
X-WR-TIMEZONE:America/Toronto
BEGIN:VTIMEZONE
TZID:America/Toronto
X-LIC-LOCATION:America/Toronto
BEGIN:DAYLIGHT
TZNAME:EDT
TZOFFSETFROM:-0500
TZOFFSETTO:-0400
DTSTART:20250309T070000
END:DAYLIGHT
BEGIN:STANDARD
TZNAME:EST
TZOFFSETFROM:-0400
TZOFFSETTO:-0500
DTSTART:20251102T060000
END:STANDARD
END:VTIMEZONE
BEGIN:VEVENT
UID:69e987822559b
DTSTART;TZID=America/Toronto:20260227T103000
SEQUENCE:0
TRANSP:TRANSPARENT
DTEND;TZID=America/Toronto:20260227T113000
URL:https://uwaterloo.ca/statistics-and-actuarial-science/events/actuarial-
 science-and-financial-mathematics-seminar-job
LOCATION:M3 3127 200 University Avenue West Waterloo ON N2L 3G1 Canada
SUMMARY:Actuarial Science and Financial Mathematics seminar: Job Boerma
CLASS:PUBLIC
DESCRIPTION:Joint seminar with Department of Economics\n\nJOB BOERMA\n_Univ
 ersity of Wisconsin-Madison_\n\nRoom: M3 3127
DTSTAMP:20260423T024418Z
END:VEVENT
END:VCALENDAR