BEGIN:VCALENDAR
VERSION:2.0
PRODID:-//Drupal iCal API//EN
X-WR-CALNAME:Events items teaser
X-WR-TIMEZONE:America/Toronto
BEGIN:VTIMEZONE
TZID:America/Toronto
X-LIC-LOCATION:America/Toronto
BEGIN:DAYLIGHT
TZNAME:EDT
TZOFFSETFROM:-0500
TZOFFSETTO:-0400
DTSTART:20260308T070000
END:DAYLIGHT
BEGIN:STANDARD
TZNAME:EST
TZOFFSETFROM:-0400
TZOFFSETTO:-0500
DTSTART:20251102T060000
END:STANDARD
END:VTIMEZONE
BEGIN:VEVENT
UID:69e82e3623915
DTSTART;TZID=America/Toronto:20260501T103000
SEQUENCE:0
TRANSP:TRANSPARENT
DTEND;TZID=America/Toronto:20260501T113000
URL:https://uwaterloo.ca/statistics-and-actuarial-science/events/actuarial-
 science-and-financial-mathematics-seminar-leonard
LOCATION:M3 3127 200 University Avenue West Waterloo ON N2L 3G1 Canada
SUMMARY:Actuarial Science and Financial Mathematics seminar: Leonard Ting-K
 am\nWong
CLASS:PUBLIC
DESCRIPTION:LEONARD TING-KAM WONG\n_University of Toronto_\n\nRoom: M3 3127
DTSTAMP:20260422T021102Z
END:VEVENT
END:VCALENDAR