BEGIN:VCALENDAR
VERSION:2.0
PRODID:-//Drupal iCal API//EN
X-WR-CALNAME:Events items teaser
X-WR-TIMEZONE:America/Toronto
BEGIN:VTIMEZONE
TZID:America/Toronto
X-LIC-LOCATION:America/Toronto
BEGIN:DAYLIGHT
TZNAME:EDT
TZOFFSETFROM:-0500
TZOFFSETTO:-0400
DTSTART:20200308T070000
END:DAYLIGHT
BEGIN:STANDARD
TZNAME:EST
TZOFFSETFROM:-0400
TZOFFSETTO:-0500
DTSTART:20201101T060000
END:STANDARD
END:VTIMEZONE
BEGIN:VEVENT
UID:69e501141e90c
DTSTART;TZID=America/Toronto:20201104T110000
SEQUENCE:0
TRANSP:TRANSPARENT
DTEND;TZID=America/Toronto:20201104T110000
URL:https://uwaterloo.ca/statistics-and-actuarial-science/events/department
 -seminar-clement-hongler
SUMMARY:Department Seminar by Clément Hongler
CLASS:PUBLIC
DESCRIPTION:Please Note: This seminar will be given online.\n\nProbability
  Seminar Series\n\nCLÉMENT HONGLER [http://csft.epfl.ch]\, PROFESSOR\n\n
 École polytechnique fédérale de Lausanne\n\nLink to join seminar: Hoste
 d on Webex\n[https://uwaterloo.webex.com/uwaterloo/onstage/g.php?MTID=ebf0
 8df12e4cd4200691a41c5ec60f621].\n\nNEURAL TANGENT KERNEL AND APPLICATIONS.
DTSTAMP:20260419T162140Z
END:VEVENT
END:VCALENDAR