BEGIN:VCALENDAR
VERSION:2.0
PRODID:-//Drupal iCal API//EN
X-WR-CALNAME:Events items teaser
X-WR-TIMEZONE:America/Toronto
BEGIN:VTIMEZONE
TZID:America/Toronto
X-LIC-LOCATION:America/Toronto
BEGIN:DAYLIGHT
TZNAME:EDT
TZOFFSETFROM:-0500
TZOFFSETTO:-0400
DTSTART:20200308T070000
END:DAYLIGHT
BEGIN:STANDARD
TZNAME:EST
TZOFFSETFROM:-0400
TZOFFSETTO:-0500
DTSTART:20201101T060000
END:STANDARD
END:VTIMEZONE
BEGIN:VEVENT
UID:69e68d7c97c8b
DTSTART;TZID=America/Toronto:20201111T110000
SEQUENCE:0
TRANSP:TRANSPARENT
DTEND;TZID=America/Toronto:20201111T110000
URL:https://uwaterloo.ca/statistics-and-actuarial-science/events/department
 -seminar-takashi-owada
SUMMARY:Department Seminar by Takashi Owada
CLASS:PUBLIC
DESCRIPTION:Please Note: This seminar will be given online.\n\nProbability
  Seminar Series\n\nTAKASHI OWADA [https://sites.google.com/site/takashiowa
 da54/]\,\nPROFESSOR\n\n_Purdue University_\n\nLink to join seminar: Hosted
  on Webex\n[https://uwaterloo.webex.com/uwaterloo/onstage/g.php?MTID=e1366
 bc763ab8689ff1d2439dae8fc757].\n\nLIMIT THEOREMS FOR TOPOLOGICAL INVARIANT
 S OF THE DYNAMIC\nMULTI-PARAMETER SIMPLICIAL COMPLEX.
DTSTAMP:20260420T203300Z
END:VEVENT
END:VCALENDAR