BEGIN:VCALENDAR
VERSION:2.0
PRODID:-//Drupal iCal API//EN
X-WR-CALNAME:Events items teaser
X-WR-TIMEZONE:America/Toronto
BEGIN:VTIMEZONE
TZID:America/Toronto
X-LIC-LOCATION:America/Toronto
BEGIN:DAYLIGHT
TZNAME:EDT
TZOFFSETFROM:-0500
TZOFFSETTO:-0400
DTSTART:20210314T070000
END:DAYLIGHT
BEGIN:STANDARD
TZNAME:EST
TZOFFSETFROM:-0400
TZOFFSETTO:-0500
DTSTART:20201101T060000
END:STANDARD
END:VTIMEZONE
BEGIN:VEVENT
UID:69e3577ca1627
DTSTART;TZID=America/Toronto:20210505T110000
SEQUENCE:0
TRANSP:TRANSPARENT
DTEND;TZID=America/Toronto:20210505T110000
URL:https://uwaterloo.ca/statistics-and-actuarial-science/events/department
 -seminar-dan-mikulincer
SUMMARY:Department Seminar by Dan Mikulincer
CLASS:PUBLIC
DESCRIPTION:PLEASE NOTE: This seminar will be given online.\n\nProbability
  seminar series\n\nDAN MIKULINCER\n_Weizmann Institute_\n\nLink to join se
 minar: Hosted on Webex\n[https://uwaterloo.webex.com/uwaterloo/onstage/g.
 php?MTID=e3c3bd2f45122eecc1717f4744039db77]\n\nA CENTRAL LIMIT THEOREM FOR
  TENSOR POWERS
DTSTAMP:20260418T100548Z
END:VEVENT
END:VCALENDAR