BEGIN:VCALENDAR
VERSION:2.0
PRODID:-//Drupal iCal API//EN
X-WR-CALNAME:Events items teaser
X-WR-TIMEZONE:America/Toronto
BEGIN:VTIMEZONE
TZID:America/Toronto
X-LIC-LOCATION:America/Toronto
BEGIN:DAYLIGHT
TZNAME:EDT
TZOFFSETFROM:-0500
TZOFFSETTO:-0400
DTSTART:20210314T070000
END:DAYLIGHT
BEGIN:STANDARD
TZNAME:EST
TZOFFSETFROM:-0400
TZOFFSETTO:-0500
DTSTART:20201101T060000
END:STANDARD
END:VTIMEZONE
BEGIN:VEVENT
UID:69e390a719e09
DTSTART;TZID=America/Toronto:20210428T090000
SEQUENCE:0
TRANSP:TRANSPARENT
DTEND;TZID=America/Toronto:20210428T090000
URL:https://uwaterloo.ca/statistics-and-actuarial-science/events/department
 -seminar-will-perkins
SUMMARY:Department Seminar by Will Perkins
CLASS:PUBLIC
DESCRIPTION:PLEASE NOTE: This seminar will be given online.\n\nProbability
  seminar series\n\nWILL PERKINS [http://willperkins.org/] \n_University of
  Illinois at Chicago_\n\nLink to join seminar: Hosted on Webex\n[https://
 uwaterloo.webex.com/uwaterloo/onstage/g.php?MTID=ed7f157165655b3329e368f15
 1cd83702]\n\nFROZEN 1-RSB STRUCTURE OF THE SYMMETRIC ISING PERCEPTRON
DTSTAMP:20260418T140943Z
END:VEVENT
END:VCALENDAR