BEGIN:VCALENDAR
VERSION:2.0
PRODID:-//Drupal iCal API//EN
X-WR-CALNAME:Events items teaser
X-WR-TIMEZONE:America/Toronto
BEGIN:VTIMEZONE
TZID:America/Toronto
X-LIC-LOCATION:America/Toronto
BEGIN:DAYLIGHT
TZNAME:EDT
TZOFFSETFROM:-0500
TZOFFSETTO:-0400
DTSTART:20210314T070000
END:DAYLIGHT
BEGIN:STANDARD
TZNAME:EST
TZOFFSETFROM:-0400
TZOFFSETTO:-0500
DTSTART:20211107T060000
END:STANDARD
END:VTIMEZONE
BEGIN:VEVENT
UID:69e2bc54a2135
DTSTART;TZID=America/Toronto:20211208T120000
SEQUENCE:0
TRANSP:TRANSPARENT
DTEND;TZID=America/Toronto:20211208T130000
URL:https://uwaterloo.ca/statistics-and-actuarial-science/events/department
 -seminar-olya-mandelshtam
SUMMARY:Department seminar by Olya Mandelshtam
CLASS:PUBLIC
DESCRIPTION:PLEASE NOTE: This seminar will be given online.\n\nProbability
  seminar series\n\nOLYA MANDELSHTAM\n_University of Waterloo_\n\nTHE MULTI
 SPECIES TOTALLY ASYMMETRIC ZERO RANGE PROCESS AND MACDONALD\nPOLYNOMIALS
DTSTAMP:20260417T230348Z
END:VEVENT
END:VCALENDAR