BEGIN:VCALENDAR
VERSION:2.0
PRODID:-//Drupal iCal API//EN
X-WR-CALNAME:Events items teaser
X-WR-TIMEZONE:America/Toronto
BEGIN:VTIMEZONE
TZID:America/Toronto
X-LIC-LOCATION:America/Toronto
BEGIN:DAYLIGHT
TZNAME:EDT
TZOFFSETFROM:-0500
TZOFFSETTO:-0400
DTSTART:20220313T070000
END:DAYLIGHT
BEGIN:STANDARD
TZNAME:EST
TZOFFSETFROM:-0400
TZOFFSETTO:-0500
DTSTART:20211107T060000
END:STANDARD
END:VTIMEZONE
BEGIN:VEVENT
UID:69e2ae00acc06
DTSTART;TZID=America/Toronto:20220411T160000
SEQUENCE:0
TRANSP:TRANSPARENT
DTEND;TZID=America/Toronto:20220411T170000
URL:https://uwaterloo.ca/statistics-and-actuarial-science/events/seminar-ga
 utam-kamath
LOCATION:M3 - Mathematics 3 200 University Avenue West M3 3127 Waterloo ON 
 N2L 3G1 Canada
SUMMARY:Seminar by Gautam Kamath
CLASS:PUBLIC
DESCRIPTION:PLEASE NOTE: This seminar will be HELD IN A HYBRID FORMAT.\n\n
 Probability seminar series\n\nGAUTAM KAMATH\n_University of Waterloo_\n\nE
 FFICIENT MEAN ESTIMATION WITH PURE DIFFERENTIAL PRIVACY VIA A\nSUM-OF-SQUA
 RES EXPONENTIAL MECHANISM
DTSTAMP:20260417T220240Z
END:VEVENT
END:VCALENDAR