BEGIN:VCALENDAR
VERSION:2.0
PRODID:-//Drupal iCal API//EN
X-WR-CALNAME:Events items teaser
X-WR-TIMEZONE:America/Toronto
BEGIN:VTIMEZONE
TZID:America/Toronto
X-LIC-LOCATION:America/Toronto
BEGIN:DAYLIGHT
TZNAME:EDT
TZOFFSETFROM:-0500
TZOFFSETTO:-0400
DTSTART:20220313T070000
END:DAYLIGHT
BEGIN:STANDARD
TZNAME:EST
TZOFFSETFROM:-0400
TZOFFSETTO:-0500
DTSTART:20221106T060000
END:STANDARD
END:VTIMEZONE
BEGIN:VEVENT
UID:69e84a8f28b78
DTSTART;TZID=America/Toronto:20230222T160000
SEQUENCE:0
TRANSP:TRANSPARENT
DTEND;TZID=America/Toronto:20230222T160000
URL:https://uwaterloo.ca/statistics-and-actuarial-science/events/seminar-ma
 teen-shaikh
LOCATION:M3 - Mathematics 3 M3 3127 Waterloo ON Canada
SUMMARY:Seminar by Mateen Shaikh
CLASS:PUBLIC
DESCRIPTION:PLEASE NOTE: This seminar will be given VIRTUALLY.\n\nStatisti
 cs and Biostatistics seminar series \n\nMATEEN SHAIKH\n_Thompson Rivers U
 niversity_\n\nIn-person component cancelled due to weather.\n\nJoin on ZOO
 M\n[https://uwaterloo.zoom.us/j/96404792139?pwd=WTI2RG1NKzNvK1hiSVhZb1VKK1
 ZwUT09].\n\nSOME METHODS OF IDENTIFYING OPTIMAL PARAMETRIC CONSTRAINTS
DTSTAMP:20260422T041159Z
END:VEVENT
END:VCALENDAR