BEGIN:VCALENDAR
VERSION:2.0
PRODID:-//Drupal iCal API//EN
X-WR-CALNAME:Events items teaser
X-WR-TIMEZONE:America/Toronto
BEGIN:VTIMEZONE
TZID:America/Toronto
X-LIC-LOCATION:America/Toronto
BEGIN:DAYLIGHT
TZNAME:EDT
TZOFFSETFROM:-0500
TZOFFSETTO:-0400
DTSTART:20220313T070000
END:DAYLIGHT
BEGIN:STANDARD
TZNAME:EST
TZOFFSETFROM:-0400
TZOFFSETTO:-0500
DTSTART:20221106T060000
END:STANDARD
END:VTIMEZONE
BEGIN:VEVENT
UID:69e2bc0d6e456
DTSTART;TZID=America/Toronto:20230227T160000
SEQUENCE:0
TRANSP:TRANSPARENT
DTEND;TZID=America/Toronto:20230227T160000
URL:https://uwaterloo.ca/statistics-and-actuarial-science/events/seminar-la
 p-chi-lau
LOCATION:M3 - Mathematics 3 M3 3127 Waterloo ON Canada
SUMMARY:Seminar by Lap Chi Lau
CLASS:PUBLIC
DESCRIPTION:PLEASE NOTE: This seminar will be given in person.\n\nProbabil
 ity seminar series \n\nLAP CHI LAU [https://cs.uwaterloo.ca/~lapchi/]\n_U
 niversity of Waterloo_\n\nRoom: M3 3127\n\nFASTEST MIXING TIME\, REWEIGHTE
 D EIGENVALUES\, AND CHEEGER INEQUALITIES
DTSTAMP:20260417T230237Z
END:VEVENT
END:VCALENDAR