BEGIN:VCALENDAR
VERSION:2.0
PRODID:-//Drupal iCal API//EN
X-WR-CALNAME:Events items teaser
X-WR-TIMEZONE:America/Toronto
BEGIN:VTIMEZONE
TZID:America/Toronto
X-LIC-LOCATION:America/Toronto
BEGIN:DAYLIGHT
TZNAME:EDT
TZOFFSETFROM:-0500
TZOFFSETTO:-0400
DTSTART:20230312T070000
END:DAYLIGHT
BEGIN:STANDARD
TZNAME:EST
TZOFFSETFROM:-0400
TZOFFSETTO:-0500
DTSTART:20221106T060000
END:STANDARD
END:VTIMEZONE
BEGIN:VEVENT
UID:69e5c5d13add8
DTSTART;TZID=America/Toronto:20230424T160000
SEQUENCE:0
TRANSP:TRANSPARENT
DTEND;TZID=America/Toronto:20230424T160000
URL:https://uwaterloo.ca/statistics-and-actuarial-science/events/seminar-ma
 rk-sellke
LOCATION:M3 - Mathematics 3 M3 3127 Waterloo ON Canada
SUMMARY:Seminar by Mark Sellke
CLASS:PUBLIC
DESCRIPTION:PLEASE NOTE: This seminar will be given in person.\n\nProbabil
 ity seminar series \n\nMARK SELLKE [https://msellke.com/]\n_Amazon/Harvar
 d University_\n\nRoom: M3 3127\n\nALGORITHMIC THRESHOLDS FOR SPHERICAL SPI
 N GLASSES
DTSTAMP:20260420T062105Z
END:VEVENT
END:VCALENDAR