BEGIN:VCALENDAR
VERSION:2.0
PRODID:-//Drupal iCal API//EN
X-WR-CALNAME:Events items teaser
X-WR-TIMEZONE:America/Toronto
BEGIN:VTIMEZONE
TZID:America/Toronto
X-LIC-LOCATION:America/Toronto
BEGIN:DAYLIGHT
TZNAME:EDT
TZOFFSETFROM:-0500
TZOFFSETTO:-0400
DTSTART:20200308T070000
END:DAYLIGHT
BEGIN:STANDARD
TZNAME:EST
TZOFFSETFROM:-0400
TZOFFSETTO:-0500
DTSTART:20191103T060000
END:STANDARD
END:VTIMEZONE
BEGIN:VEVENT
UID:69e4ee810ea2e
DTSTART;TZID=America/Toronto:20200312T120000
SEQUENCE:0
TRANSP:TRANSPARENT
DTEND;TZID=America/Toronto:20200312T130000
URL:https://uwaterloo.ca/stratford-school-of-interaction-design-and-busines
 s/events/lunch-learn-lighting-photography-and-video
LOCATION:DMS - Stratford Campus 125 St. Patrick Street Room 1004 Stratford 
 ON N5A 0C1 Canada
SUMMARY:Lunch &amp; Learn | Lighting for Photography and Video
CLASS:PUBLIC
DESCRIPTION:This workshop will cover how to optimize the use of natural lig
 ht and\nthe various lighting equipment available to you in Media Services.
  You\nwill learn how to enhance production quality by sculpting and shapin
 g\nyour lighting\, pre-planning and troubleshooting\, as well as tricks an
 d\ntips to make you successful in any scenario.
DTSTAMP:20260419T150225Z
END:VEVENT
END:VCALENDAR