BEGIN:VCALENDAR
VERSION:2.0
PRODID:-//Drupal iCal API//EN
X-WR-CALNAME:Events items teaser
X-WR-TIMEZONE:America/Toronto
BEGIN:VTIMEZONE
TZID:America/Toronto
X-LIC-LOCATION:America/Toronto
BEGIN:DAYLIGHT
TZNAME:EDT
TZOFFSETFROM:-0500
TZOFFSETTO:-0400
DTSTART:20190310T070000
END:DAYLIGHT
BEGIN:STANDARD
TZNAME:EST
TZOFFSETFROM:-0400
TZOFFSETTO:-0500
DTSTART:20181104T060000
END:STANDARD
END:VTIMEZONE
BEGIN:VEVENT
UID:69e51b1ce8589
DTSTART;TZID=America/Toronto:20191001T120000
SEQUENCE:0
TRANSP:TRANSPARENT
DTEND;TZID=America/Toronto:20191001T130000
URL:https://uwaterloo.ca/stratford-school-of-interaction-design-and-busines
 s/events/portfolio-101
LOCATION:Stratford Campus 125 St. Patrick Street DMS 1004 Stratford ON N5A 
 0C1 Canada
SUMMARY:Portfolio 101
CLASS:PUBLIC
DESCRIPTION:What is a design portfolio and what does that mean for you?
DTSTAMP:20260419T181244Z
END:VEVENT
END:VCALENDAR