BEGIN:VCALENDAR
VERSION:2.0
PRODID:-//Drupal iCal API//EN
X-WR-CALNAME:Events items teaser
X-WR-TIMEZONE:America/Toronto
BEGIN:VTIMEZONE
TZID:America/Toronto
X-LIC-LOCATION:America/Toronto
BEGIN:DAYLIGHT
TZNAME:EDT
TZOFFSETFROM:-0500
TZOFFSETTO:-0400
DTSTART:20190310T070000
END:DAYLIGHT
BEGIN:STANDARD
TZNAME:EST
TZOFFSETFROM:-0400
TZOFFSETTO:-0500
DTSTART:20191103T060000
END:STANDARD
END:VTIMEZONE
BEGIN:VEVENT
UID:69e4d73c89a2c
DTSTART;TZID=America/Toronto:20200304T114500
SEQUENCE:0
TRANSP:TRANSPARENT
DTEND;TZID=America/Toronto:20200304T130000
URL:https://uwaterloo.ca/stratford-school-of-interaction-design-and-busines
 s/events/your-phone-becoming-distraction
LOCATION:DMS 3024 125 St. Patrick Street Stratford ON N5A 0C1 Canada
SUMMARY:Is your phone becoming a distraction?
CLASS:PUBLIC
DESCRIPTION:Is your phone becoming a distraction? You're not alone. If you 
 want to\nlimit the temptation of your phone\, sign up for this workshop. H
 osted\nby the Critical Media Lab\, you'll learn how to build your own cell
 \nphone resistor case (materials provided). 
DTSTAMP:20260419T132308Z
END:VEVENT
END:VCALENDAR