BEGIN:VCALENDAR
VERSION:2.0
PRODID:-//Drupal iCal API//EN
X-WR-CALNAME:Events items teaser
X-WR-TIMEZONE:America/Toronto
BEGIN:VTIMEZONE
TZID:America/Toronto
X-LIC-LOCATION:America/Toronto
BEGIN:DAYLIGHT
TZNAME:EDT
TZOFFSETFROM:-0500
TZOFFSETTO:-0400
DTSTART:20200308T070000
END:DAYLIGHT
BEGIN:STANDARD
TZNAME:EST
TZOFFSETFROM:-0400
TZOFFSETTO:-0500
DTSTART:20191103T060000
END:STANDARD
END:VTIMEZONE
BEGIN:VEVENT
UID:69e594372575e
DTSTART;TZID=America/Toronto:20200923T180000
SEQUENCE:0
TRANSP:TRANSPARENT
DTEND;TZID=America/Toronto:20200923T180000
URL:https://uwaterloo.ca/stratford-school-of-interaction-design-and-busines
 s/events/work-microsoft-virtual-info-session
LOCATION:Online via Microsoft Teams Link to be sent upon successful registr
 ation Canada
SUMMARY:Work at Microsoft Virtual Info Session
CLASS:PUBLIC
DESCRIPTION:Microsoft Canada is always looking for top talent that can brin
 g\nclarity\, create energy\, and drive impact.
DTSTAMP:20260420T024927Z
END:VEVENT
END:VCALENDAR