BEGIN:VCALENDAR
VERSION:2.0
PRODID:-//Drupal iCal API//EN
X-WR-CALNAME:Events items teaser
X-WR-TIMEZONE:America/Toronto
BEGIN:VTIMEZONE
TZID:America/Toronto
X-LIC-LOCATION:America/Toronto
BEGIN:DAYLIGHT
TZNAME:EDT
TZOFFSETFROM:-0500
TZOFFSETTO:-0400
DTSTART:20240310T070000
END:DAYLIGHT
BEGIN:STANDARD
TZNAME:EST
TZOFFSETFROM:-0400
TZOFFSETTO:-0500
DTSTART:20231105T060000
END:STANDARD
END:VTIMEZONE
BEGIN:VEVENT
UID:69ed1a332283e
DTSTART;TZID=America/Toronto:20240530T120000
SEQUENCE:0
TRANSP:TRANSPARENT
DTEND;TZID=America/Toronto:20240530T130000
URL:https://uwaterloo.ca/stratford-school-of-interaction-design-and-busines
 s/events/changing-future-digital-products-lunch-and-learn-andrew
LOCATION:DMS - Stratford Campus 125 St. Patrick Street Room 1004 Stratford 
 ON N5A 0C1 Canada
SUMMARY:The Changing Future of Digital Products - A Lunch and Learn with\nA
 ndrew Matlock
CLASS:PUBLIC
DESCRIPTION:Join Andrew Matlock to discuss insights\, trends\, and data fro
 m inside\nthe tech industry. AI is rapidly evolving how and why digital\n
 products exist\, systemically impacting jobs and businesses. The next\nfiv
 e years will be unlike any other period of time for digital trades\,\nthey
  will be packed with new challenges and opportunities.
DTSTAMP:20260425T194659Z
END:VEVENT
END:VCALENDAR