BEGIN:VCALENDAR
VERSION:2.0
PRODID:-//Drupal iCal API//EN
X-WR-CALNAME:Events items teaser
X-WR-TIMEZONE:America/Toronto
BEGIN:VTIMEZONE
TZID:America/Toronto
X-LIC-LOCATION:America/Toronto
BEGIN:DAYLIGHT
TZNAME:EDT
TZOFFSETFROM:-0500
TZOFFSETTO:-0400
DTSTART:20170312T070000
END:DAYLIGHT
BEGIN:STANDARD
TZNAME:EST
TZOFFSETFROM:-0400
TZOFFSETTO:-0500
DTSTART:20161106T060000
END:STANDARD
END:VTIMEZONE
BEGIN:VEVENT
UID:69b8fd45ded75
DTSTART;TZID=America/Toronto:20170610T130000
SEQUENCE:0
TRANSP:TRANSPARENT
DTEND;TZID=America/Toronto:20170610T160000
URL:https://uwaterloo.ca/student-art-innovation-lab/events/steam-heat
LOCATION:Waterloo Public Library 35 Albert Street Parking Lot Waterloo ON N
 2L 5E2 Canada
SUMMARY:STEAM Heat
CLASS:PUBLIC
DESCRIPTION:Join UWaterloo's S.A.I.L. program at STEAM Heat on June 10\, 20
 17 from\n1 p.m. to 4 p.m. at the Waterloo Public Library (35 Albert St).\n
 \nExperience the interactive installation 'Permit Playing' by\nTimeanddesi
 re.
DTSTAMP:20260317T070541Z
END:VEVENT
END:VCALENDAR