BEGIN:VCALENDAR
VERSION:2.0
PRODID:-//Drupal iCal API//EN
X-WR-CALNAME:Events items teaser
X-WR-TIMEZONE:America/Toronto
BEGIN:VTIMEZONE
TZID:America/Toronto
X-LIC-LOCATION:America/Toronto
BEGIN:DAYLIGHT
TZNAME:EDT
TZOFFSETFROM:-0500
TZOFFSETTO:-0400
DTSTART:20170312T070000
END:DAYLIGHT
BEGIN:STANDARD
TZNAME:EST
TZOFFSETFROM:-0400
TZOFFSETTO:-0500
DTSTART:20161106T060000
END:STANDARD
END:VTIMEZONE
BEGIN:VEVENT
UID:69b8ff2e1ff85
DTSTART;TZID=America/Toronto:20170804T093000
SEQUENCE:0
TRANSP:TRANSPARENT
DTEND;TZID=America/Toronto:20170804T140000
URL:https://uwaterloo.ca/student-art-innovation-lab/events/artrageous
LOCATION:Idea Exchange 1 N Square Cambridge ON N1S 2K6 Canada
SUMMARY:Artrageous!
CLASS:PUBLIC
DESCRIPTION:Free Drop-in Art Workshops!\n\nWe will be conducting 3 differen
 t art workshops at Cambridge Art\nGalleries on Friday August 4\, 2017 from
  9:30 a.m. to 2:00 p.m.\n\nMake your own flag using one of our screenprint
 ed felt flag templates\nand laser cut felt letters. (All day)
DTSTAMP:20260317T071350Z
END:VEVENT
BEGIN:VEVENT
UID:69b8ff2e229a2
DTSTART;TZID=America/Toronto:20170809T110000
SEQUENCE:0
TRANSP:TRANSPARENT
DTEND;TZID=America/Toronto:20170810T140000
URL:https://uwaterloo.ca/student-art-innovation-lab/events/stop-motion-anim
 ation-workshop
LOCATION:The Clay and Glass Gallery 25 Caroline St N Waterloo ON N2L 2Y5 Ca
 nada
SUMMARY:Stop Motion Animation Workshop
CLASS:PUBLIC
DESCRIPTION:Sign up for our FREE 2-day workshop and learn how to make a sto
 p\nmotion animation with S.A.I.L.!\n\nThe workshop will take place at the 
 Clay and Glass Gallery in Waterloo\non Wednesday August 9 and Thursday Aug
 ust 10 from 11:00 a.m. to 2:00\np.m.
DTSTAMP:20260317T071350Z
END:VEVENT
BEGIN:VEVENT
UID:69b8ff2e2342d
DTSTART;TZID=America/Toronto:20170621T200000
SEQUENCE:0
TRANSP:TRANSPARENT
DTEND;TZID=America/Toronto:20170621T220000
URL:https://uwaterloo.ca/student-art-innovation-lab/events/campfire-june-20
 17
LOCATION:Waterloo Public Square 75 King Street South Waterloo ON N2J 1P2 Ca
 nada
SUMMARY:Campfire - June 2017
CLASS:PUBLIC
DESCRIPTION:S.A.I.L. will be showcasing artwork out of the Airstream for Ju
 ne's\ncampfire at Waterloo Public Square. In honour of National Aboriginal
 \nDay we will be highlighting the work of two talented artists with an\nAb
 original background: Melissa Johns and Caitlin Court.
DTSTAMP:20260317T071350Z
END:VEVENT
END:VCALENDAR