BEGIN:VCALENDAR
VERSION:2.0
PRODID:-//Drupal iCal API//EN
X-WR-CALNAME:Events items teaser
X-WR-TIMEZONE:America/Toronto
BEGIN:VTIMEZONE
TZID:America/Toronto
X-LIC-LOCATION:America/Toronto
BEGIN:DAYLIGHT
TZNAME:EDT
TZOFFSETFROM:-0500
TZOFFSETTO:-0400
DTSTART:20140309T070000
END:DAYLIGHT
BEGIN:DAYLIGHT
TZNAME:EDT
TZOFFSETFROM:-0500
TZOFFSETTO:-0400
DTSTART:20150308T070000
END:DAYLIGHT
BEGIN:STANDARD
TZNAME:EST
TZOFFSETFROM:-0400
TZOFFSETTO:-0500
DTSTART:20141102T060000
END:STANDARD
END:VTIMEZONE
BEGIN:VEVENT
UID:69e16060a9b5f
DTSTART;TZID=America/Toronto:20150206T110000
SEQUENCE:0
TRANSP:TRANSPARENT
DTEND;TZID=America/Toronto:20150206T190000
URL:https://uwaterloo.ca/student-life-centre/events/oh-fudge
LOCATION:SLC - Student Life Centre 200 University Avenue West SLC Marketpla
 ce Waterloo ON N2L 3G1 Canada
SUMMARY:Oh! Fudge
CLASS:PUBLIC
DESCRIPTION:Oh! Fudge is a family owned and operated business\, and Gaynor 
 and John\nEvanoff are possibly the sweetest vendors to ever come to the St
 udent\nLife Centre.
DTSTAMP:20260416T221912Z
END:VEVENT
BEGIN:VEVENT
UID:69e16060aeb53
DTSTART;TZID=America/Toronto:20150207T110000
SEQUENCE:0
TRANSP:TRANSPARENT
DTEND;TZID=America/Toronto:20150207T190000
URL:https://uwaterloo.ca/student-life-centre/events/oh-fudge
LOCATION:SLC - Student Life Centre 200 University Avenue West SLC Marketpla
 ce Waterloo ON N2L 3G1 Canada
SUMMARY:Oh! Fudge
CLASS:PUBLIC
DESCRIPTION:Oh! Fudge is a family owned and operated business\, and Gaynor 
 and John\nEvanoff are possibly the sweetest vendors to ever come to the St
 udent\nLife Centre.
DTSTAMP:20260416T221912Z
END:VEVENT
BEGIN:VEVENT
UID:69e16060af96d
DTSTART;TZID=America/Toronto:20150208T110000
SEQUENCE:0
TRANSP:TRANSPARENT
DTEND;TZID=America/Toronto:20150208T190000
URL:https://uwaterloo.ca/student-life-centre/events/oh-fudge
LOCATION:SLC - Student Life Centre 200 University Avenue West SLC Marketpla
 ce Waterloo ON N2L 3G1 Canada
SUMMARY:Oh! Fudge
CLASS:PUBLIC
DESCRIPTION:Oh! Fudge is a family owned and operated business\, and Gaynor 
 and John\nEvanoff are possibly the sweetest vendors to ever come to the St
 udent\nLife Centre.
DTSTAMP:20260416T221912Z
END:VEVENT
BEGIN:VEVENT
UID:69e16060b0d9c
DTSTART;TZID=America/Toronto:20150209T110000
SEQUENCE:0
TRANSP:TRANSPARENT
DTEND;TZID=America/Toronto:20150209T190000
URL:https://uwaterloo.ca/student-life-centre/events/oh-fudge
LOCATION:SLC - Student Life Centre 200 University Avenue West SLC Marketpla
 ce Waterloo ON N2L 3G1 Canada
SUMMARY:Oh! Fudge
CLASS:PUBLIC
DESCRIPTION:Oh! Fudge is a family owned and operated business\, and Gaynor 
 and John\nEvanoff are possibly the sweetest vendors to ever come to the St
 udent\nLife Centre.
DTSTAMP:20260416T221912Z
END:VEVENT
BEGIN:VEVENT
UID:69e16060b19ff
DTSTART;TZID=America/Toronto:20150210T110000
SEQUENCE:0
TRANSP:TRANSPARENT
DTEND;TZID=America/Toronto:20150210T190000
URL:https://uwaterloo.ca/student-life-centre/events/oh-fudge
LOCATION:SLC - Student Life Centre 200 University Avenue West SLC Marketpla
 ce Waterloo ON N2L 3G1 Canada
SUMMARY:Oh! Fudge
CLASS:PUBLIC
DESCRIPTION:Oh! Fudge is a family owned and operated business\, and Gaynor 
 and John\nEvanoff are possibly the sweetest vendors to ever come to the St
 udent\nLife Centre.
DTSTAMP:20260416T221912Z
END:VEVENT
BEGIN:VEVENT
UID:69e16060b2889
DTSTART;TZID=America/Toronto:20150928T110000
SEQUENCE:0
TRANSP:TRANSPARENT
DTEND;TZID=America/Toronto:20150928T190000
URL:https://uwaterloo.ca/student-life-centre/events/oh-fudge
LOCATION:SLC - Student Life Centre 200 University Avenue West SLC Marketpla
 ce Waterloo ON N2L 3G1 Canada
SUMMARY:Oh! Fudge
CLASS:PUBLIC
DESCRIPTION:Oh! Fudge is a family owned and operated business\, and Gaynor 
 and John\nEvanoff are possibly the sweetest vendors to ever come to the St
 udent\nLife Centre.
DTSTAMP:20260416T221912Z
END:VEVENT
BEGIN:VEVENT
UID:69e16060b3770
DTSTART;TZID=America/Toronto:20150929T110000
SEQUENCE:0
TRANSP:TRANSPARENT
DTEND;TZID=America/Toronto:20150929T190000
URL:https://uwaterloo.ca/student-life-centre/events/oh-fudge
LOCATION:SLC - Student Life Centre 200 University Avenue West SLC Marketpla
 ce Waterloo ON N2L 3G1 Canada
SUMMARY:Oh! Fudge
CLASS:PUBLIC
DESCRIPTION:Oh! Fudge is a family owned and operated business\, and Gaynor 
 and John\nEvanoff are possibly the sweetest vendors to ever come to the St
 udent\nLife Centre.
DTSTAMP:20260416T221912Z
END:VEVENT
BEGIN:VEVENT
UID:69e16060b4330
DTSTART;TZID=America/Toronto:20150930T110000
SEQUENCE:0
TRANSP:TRANSPARENT
DTEND;TZID=America/Toronto:20150930T190000
URL:https://uwaterloo.ca/student-life-centre/events/oh-fudge
LOCATION:SLC - Student Life Centre 200 University Avenue West SLC Marketpla
 ce Waterloo ON N2L 3G1 Canada
SUMMARY:Oh! Fudge
CLASS:PUBLIC
DESCRIPTION:Oh! Fudge is a family owned and operated business\, and Gaynor 
 and John\nEvanoff are possibly the sweetest vendors to ever come to the St
 udent\nLife Centre.
DTSTAMP:20260416T221912Z
END:VEVENT
BEGIN:VEVENT
UID:69e16060b4ea7
DTSTART;TZID=America/Toronto:20151001T110000
SEQUENCE:0
TRANSP:TRANSPARENT
DTEND;TZID=America/Toronto:20151001T190000
URL:https://uwaterloo.ca/student-life-centre/events/oh-fudge
LOCATION:SLC - Student Life Centre 200 University Avenue West SLC Marketpla
 ce Waterloo ON N2L 3G1 Canada
SUMMARY:Oh! Fudge
CLASS:PUBLIC
DESCRIPTION:Oh! Fudge is a family owned and operated business\, and Gaynor 
 and John\nEvanoff are possibly the sweetest vendors to ever come to the St
 udent\nLife Centre.
DTSTAMP:20260416T221912Z
END:VEVENT
BEGIN:VEVENT
UID:69e16060b5a95
DTSTART;TZID=America/Toronto:20151002T110000
SEQUENCE:0
TRANSP:TRANSPARENT
DTEND;TZID=America/Toronto:20151002T190000
URL:https://uwaterloo.ca/student-life-centre/events/oh-fudge
LOCATION:SLC - Student Life Centre 200 University Avenue West SLC Marketpla
 ce Waterloo ON N2L 3G1 Canada
SUMMARY:Oh! Fudge
CLASS:PUBLIC
DESCRIPTION:Oh! Fudge is a family owned and operated business\, and Gaynor 
 and John\nEvanoff are possibly the sweetest vendors to ever come to the St
 udent\nLife Centre.
DTSTAMP:20260416T221912Z
END:VEVENT
END:VCALENDAR