BEGIN:VCALENDAR
VERSION:2.0
PRODID:-//Drupal iCal API//EN
X-WR-CALNAME:Events items teaser
X-WR-TIMEZONE:America/Toronto
BEGIN:VTIMEZONE
TZID:America/Toronto
X-LIC-LOCATION:America/Toronto
BEGIN:DAYLIGHT
TZNAME:EDT
TZOFFSETFROM:-0500
TZOFFSETTO:-0400
DTSTART:20120311T070000
END:DAYLIGHT
BEGIN:STANDARD
TZNAME:EST
TZOFFSETFROM:-0400
TZOFFSETTO:-0500
DTSTART:20111106T060000
END:STANDARD
BEGIN:STANDARD
TZNAME:EST
TZOFFSETFROM:-0400
TZOFFSETTO:-0500
DTSTART:20121104T060000
END:STANDARD
END:VTIMEZONE
BEGIN:VEVENT
UID:69e5f73c18f24
DTSTART;TZID=America/Toronto:20120919T110000
SEQUENCE:0
TRANSP:TRANSPARENT
DTEND;TZID=America/Toronto:20120919T143000
URL:https://uwaterloo.ca/student-life-centre/events/volunteer-internship-fa
 ir
LOCATION:SLC - Student Life Centre 200 University Avenue West Great Hall - 
 Main Floor Waterloo ON N2L 3G1 Canada
SUMMARY:Volunteer / Internship Fair
CLASS:PUBLIC
DESCRIPTION:Come and visit with representatives from a variety of agencies 
 to find\nout about volunteer opportunities. 
DTSTAMP:20260420T095156Z
END:VEVENT
BEGIN:VEVENT
UID:69e5f73c278d9
DTSTART;TZID=America/Toronto:20130123T110000
SEQUENCE:0
TRANSP:TRANSPARENT
DTEND;TZID=America/Toronto:20130123T143000
URL:https://uwaterloo.ca/student-life-centre/events/volunteer-internship-fa
 ir
LOCATION:SLC - Student Life Centre 200 University Avenue West Great Hall - 
 Main Floor Waterloo ON N2L 3G1 Canada
SUMMARY:Volunteer / Internship Fair
CLASS:PUBLIC
DESCRIPTION:Come and visit with representatives from a variety of agencies 
 to find\nout about volunteer opportunities. 
DTSTAMP:20260420T095156Z
END:VEVENT
END:VCALENDAR