BEGIN:VCALENDAR
VERSION:2.0
PRODID:-//Drupal iCal API//EN
X-WR-CALNAME:Events items teaser
X-WR-TIMEZONE:America/Toronto
BEGIN:VTIMEZONE
TZID:America/Toronto
X-LIC-LOCATION:America/Toronto
BEGIN:DAYLIGHT
TZNAME:EDT
TZOFFSETFROM:-0500
TZOFFSETTO:-0400
DTSTART:20130310T070000
END:DAYLIGHT
BEGIN:DAYLIGHT
TZNAME:EDT
TZOFFSETFROM:-0500
TZOFFSETTO:-0400
DTSTART:20140309T070000
END:DAYLIGHT
BEGIN:DAYLIGHT
TZNAME:EDT
TZOFFSETFROM:-0500
TZOFFSETTO:-0400
DTSTART:20150308T070000
END:DAYLIGHT
BEGIN:STANDARD
TZNAME:EST
TZOFFSETFROM:-0400
TZOFFSETTO:-0500
DTSTART:20121104T060000
END:STANDARD
BEGIN:STANDARD
TZNAME:EST
TZOFFSETFROM:-0400
TZOFFSETTO:-0500
DTSTART:20131103T060000
END:STANDARD
BEGIN:STANDARD
TZNAME:EST
TZOFFSETFROM:-0400
TZOFFSETTO:-0500
DTSTART:20141102T060000
END:STANDARD
END:VTIMEZONE
BEGIN:VEVENT
UID:69e987638dfe2
DTSTART;TZID=America/Toronto:20130516T110000
SEQUENCE:0
TRANSP:TRANSPARENT
DTEND;TZID=America/Toronto:20130516T180000
URL:https://uwaterloo.ca/student-life-centre/events/clubs-societies-day
LOCATION:SLC - Student Life Centre 200 University Avenue West Great Hall Wa
 terloo ON N2L 3G1 Canada
SUMMARY:Clubs &amp; Societies Day
CLASS:PUBLIC
DESCRIPTION:There are almost 200 clubs with a range of focuses. There is so
 mething\nfor everyone! Each club is different\, so the best way to find ou
 t how\nto get involved is by attending attending Clubs\, Services\, and\nS
 ocieties days.
DTSTAMP:20260423T024347Z
END:VEVENT
BEGIN:VEVENT
UID:69e98763927c2
DTSTART;TZID=America/Toronto:20130517T110000
SEQUENCE:0
TRANSP:TRANSPARENT
DTEND;TZID=America/Toronto:20130517T180000
URL:https://uwaterloo.ca/student-life-centre/events/clubs-societies-day
LOCATION:SLC - Student Life Centre 200 University Avenue West Great Hall Wa
 terloo ON N2L 3G1 Canada
SUMMARY:Clubs &amp; Societies Day
CLASS:PUBLIC
DESCRIPTION:There are almost 200 clubs with a range of focuses. There is so
 mething\nfor everyone! Each club is different\, so the best way to find ou
 t how\nto get involved is by attending attending Clubs\, Services\, and\nS
 ocieties days.
DTSTAMP:20260423T024347Z
END:VEVENT
BEGIN:VEVENT
UID:69e9876393675
DTSTART;TZID=America/Toronto:20130919T110000
SEQUENCE:0
TRANSP:TRANSPARENT
DTEND;TZID=America/Toronto:20130919T180000
URL:https://uwaterloo.ca/student-life-centre/events/clubs-societies-day
LOCATION:SLC - Student Life Centre 200 University Avenue West Great Hall Wa
 terloo ON N2L 3G1 Canada
SUMMARY:Clubs &amp; Societies Day
CLASS:PUBLIC
DESCRIPTION:There are almost 200 clubs with a range of focuses. There is so
 mething\nfor everyone! Each club is different\, so the best way to find ou
 t how\nto get involved is by attending attending Clubs\, Services\, and\nS
 ocieties days.
DTSTAMP:20260423T024347Z
END:VEVENT
BEGIN:VEVENT
UID:69e9876394224
DTSTART;TZID=America/Toronto:20130920T110000
SEQUENCE:0
TRANSP:TRANSPARENT
DTEND;TZID=America/Toronto:20130920T180000
URL:https://uwaterloo.ca/student-life-centre/events/clubs-societies-day
LOCATION:SLC - Student Life Centre 200 University Avenue West Great Hall Wa
 terloo ON N2L 3G1 Canada
SUMMARY:Clubs &amp; Societies Day
CLASS:PUBLIC
DESCRIPTION:There are almost 200 clubs with a range of focuses. There is so
 mething\nfor everyone! Each club is different\, so the best way to find ou
 t how\nto get involved is by attending attending Clubs\, Services\, and\nS
 ocieties days.
DTSTAMP:20260423T024347Z
END:VEVENT
BEGIN:VEVENT
UID:69e9876394d57
DTSTART;TZID=America/Toronto:20140116T110000
SEQUENCE:0
TRANSP:TRANSPARENT
DTEND;TZID=America/Toronto:20140116T180000
URL:https://uwaterloo.ca/student-life-centre/events/clubs-societies-day
LOCATION:SLC - Student Life Centre 200 University Avenue West Great Hall Wa
 terloo ON N2L 3G1 Canada
SUMMARY:Clubs &amp; Societies Day
CLASS:PUBLIC
DESCRIPTION:There are almost 200 clubs with a range of focuses. There is so
 mething\nfor everyone! Each club is different\, so the best way to find ou
 t how\nto get involved is by attending attending Clubs\, Services\, and\nS
 ocieties days.
DTSTAMP:20260423T024347Z
END:VEVENT
BEGIN:VEVENT
UID:69e98763958de
DTSTART;TZID=America/Toronto:20140117T110000
SEQUENCE:0
TRANSP:TRANSPARENT
DTEND;TZID=America/Toronto:20140117T180000
URL:https://uwaterloo.ca/student-life-centre/events/clubs-societies-day
LOCATION:SLC - Student Life Centre 200 University Avenue West Great Hall Wa
 terloo ON N2L 3G1 Canada
SUMMARY:Clubs &amp; Societies Day
CLASS:PUBLIC
DESCRIPTION:There are almost 200 clubs with a range of focuses. There is so
 mething\nfor everyone! Each club is different\, so the best way to find ou
 t how\nto get involved is by attending attending Clubs\, Services\, and\nS
 ocieties days.
DTSTAMP:20260423T024347Z
END:VEVENT
BEGIN:VEVENT
UID:69e98763963e0
DTSTART;TZID=America/Toronto:20140515T110000
SEQUENCE:0
TRANSP:TRANSPARENT
DTEND;TZID=America/Toronto:20140515T180000
URL:https://uwaterloo.ca/student-life-centre/events/clubs-societies-day
LOCATION:SLC - Student Life Centre 200 University Avenue West Great Hall Wa
 terloo ON N2L 3G1 Canada
SUMMARY:Clubs &amp; Societies Day
CLASS:PUBLIC
DESCRIPTION:There are almost 200 clubs with a range of focuses. There is so
 mething\nfor everyone! Each club is different\, so the best way to find ou
 t how\nto get involved is by attending attending Clubs\, Services\, and\nS
 ocieties days.
DTSTAMP:20260423T024347Z
END:VEVENT
BEGIN:VEVENT
UID:69e9876396f90
DTSTART;TZID=America/Toronto:20140516T110000
SEQUENCE:0
TRANSP:TRANSPARENT
DTEND;TZID=America/Toronto:20140516T180000
URL:https://uwaterloo.ca/student-life-centre/events/clubs-societies-day
LOCATION:SLC - Student Life Centre 200 University Avenue West Great Hall Wa
 terloo ON N2L 3G1 Canada
SUMMARY:Clubs &amp; Societies Day
CLASS:PUBLIC
DESCRIPTION:There are almost 200 clubs with a range of focuses. There is so
 mething\nfor everyone! Each club is different\, so the best way to find ou
 t how\nto get involved is by attending attending Clubs\, Services\, and\nS
 ocieties days.
DTSTAMP:20260423T024347Z
END:VEVENT
BEGIN:VEVENT
UID:69e9876397a65
DTSTART;TZID=America/Toronto:20140918T110000
SEQUENCE:0
TRANSP:TRANSPARENT
DTEND;TZID=America/Toronto:20140918T180000
URL:https://uwaterloo.ca/student-life-centre/events/clubs-societies-day
LOCATION:SLC - Student Life Centre 200 University Avenue West Great Hall Wa
 terloo ON N2L 3G1 Canada
SUMMARY:Clubs &amp; Societies Day
CLASS:PUBLIC
DESCRIPTION:There are almost 200 clubs with a range of focuses. There is so
 mething\nfor everyone! Each club is different\, so the best way to find ou
 t how\nto get involved is by attending attending Clubs\, Services\, and\nS
 ocieties days.
DTSTAMP:20260423T024347Z
END:VEVENT
BEGIN:VEVENT
UID:69e987639856f
DTSTART;TZID=America/Toronto:20140919T110000
SEQUENCE:0
TRANSP:TRANSPARENT
DTEND;TZID=America/Toronto:20140919T180000
URL:https://uwaterloo.ca/student-life-centre/events/clubs-societies-day
LOCATION:SLC - Student Life Centre 200 University Avenue West Great Hall Wa
 terloo ON N2L 3G1 Canada
SUMMARY:Clubs &amp; Societies Day
CLASS:PUBLIC
DESCRIPTION:There are almost 200 clubs with a range of focuses. There is so
 mething\nfor everyone! Each club is different\, so the best way to find ou
 t how\nto get involved is by attending attending Clubs\, Services\, and\nS
 ocieties days.
DTSTAMP:20260423T024347Z
END:VEVENT
BEGIN:VEVENT
UID:69e9876398f11
DTSTART;TZID=America/Toronto:20150115T110000
SEQUENCE:0
TRANSP:TRANSPARENT
DTEND;TZID=America/Toronto:20150115T180000
URL:https://uwaterloo.ca/student-life-centre/events/clubs-societies-day
LOCATION:SLC - Student Life Centre 200 University Avenue West Great Hall Wa
 terloo ON N2L 3G1 Canada
SUMMARY:Clubs &amp; Societies Day
CLASS:PUBLIC
DESCRIPTION:There are almost 200 clubs with a range of focuses. There is so
 mething\nfor everyone! Each club is different\, so the best way to find ou
 t how\nto get involved is by attending attending Clubs\, Services\, and\nS
 ocieties days.
DTSTAMP:20260423T024347Z
END:VEVENT
BEGIN:VEVENT
UID:69e98763999d7
DTSTART;TZID=America/Toronto:20150116T110000
SEQUENCE:0
TRANSP:TRANSPARENT
DTEND;TZID=America/Toronto:20150116T180000
URL:https://uwaterloo.ca/student-life-centre/events/clubs-societies-day
LOCATION:SLC - Student Life Centre 200 University Avenue West Great Hall Wa
 terloo ON N2L 3G1 Canada
SUMMARY:Clubs &amp; Societies Day
CLASS:PUBLIC
DESCRIPTION:There are almost 200 clubs with a range of focuses. There is so
 mething\nfor everyone! Each club is different\, so the best way to find ou
 t how\nto get involved is by attending attending Clubs\, Services\, and\nS
 ocieties days.
DTSTAMP:20260423T024347Z
END:VEVENT
BEGIN:VEVENT
UID:69e987639a2e0
DTSTART;TZID=America/Toronto:20150514T110000
SEQUENCE:0
TRANSP:TRANSPARENT
DTEND;TZID=America/Toronto:20150514T180000
URL:https://uwaterloo.ca/student-life-centre/events/clubs-societies-day
LOCATION:SLC - Student Life Centre 200 University Avenue West Great Hall Wa
 terloo ON N2L 3G1 Canada
SUMMARY:Clubs &amp; Societies Day
CLASS:PUBLIC
DESCRIPTION:There are almost 200 clubs with a range of focuses. There is so
 mething\nfor everyone! Each club is different\, so the best way to find ou
 t how\nto get involved is by attending attending Clubs\, Services\, and\nS
 ocieties days.
DTSTAMP:20260423T024347Z
END:VEVENT
BEGIN:VEVENT
UID:69e987639abc5
DTSTART;TZID=America/Toronto:20150515T110000
SEQUENCE:0
TRANSP:TRANSPARENT
DTEND;TZID=America/Toronto:20150515T180000
URL:https://uwaterloo.ca/student-life-centre/events/clubs-societies-day
LOCATION:SLC - Student Life Centre 200 University Avenue West Great Hall Wa
 terloo ON N2L 3G1 Canada
SUMMARY:Clubs &amp; Societies Day
CLASS:PUBLIC
DESCRIPTION:There are almost 200 clubs with a range of focuses. There is so
 mething\nfor everyone! Each club is different\, so the best way to find ou
 t how\nto get involved is by attending attending Clubs\, Services\, and\nS
 ocieties days.
DTSTAMP:20260423T024347Z
END:VEVENT
BEGIN:VEVENT
UID:69e987639b56f
DTSTART;TZID=America/Toronto:20150924T110000
SEQUENCE:0
TRANSP:TRANSPARENT
DTEND;TZID=America/Toronto:20150924T180000
URL:https://uwaterloo.ca/student-life-centre/events/clubs-societies-day
LOCATION:SLC - Student Life Centre 200 University Avenue West Great Hall Wa
 terloo ON N2L 3G1 Canada
SUMMARY:Clubs &amp; Societies Day
CLASS:PUBLIC
DESCRIPTION:There are almost 200 clubs with a range of focuses. There is so
 mething\nfor everyone! Each club is different\, so the best way to find ou
 t how\nto get involved is by attending attending Clubs\, Services\, and\nS
 ocieties days.
DTSTAMP:20260423T024347Z
END:VEVENT
BEGIN:VEVENT
UID:69e987639bf49
DTSTART;TZID=America/Toronto:20150925T110000
SEQUENCE:0
TRANSP:TRANSPARENT
DTEND;TZID=America/Toronto:20150925T180000
URL:https://uwaterloo.ca/student-life-centre/events/clubs-societies-day
LOCATION:SLC - Student Life Centre 200 University Avenue West Great Hall Wa
 terloo ON N2L 3G1 Canada
SUMMARY:Clubs &amp; Societies Day
CLASS:PUBLIC
DESCRIPTION:There are almost 200 clubs with a range of focuses. There is so
 mething\nfor everyone! Each club is different\, so the best way to find ou
 t how\nto get involved is by attending attending Clubs\, Services\, and\nS
 ocieties days.
DTSTAMP:20260423T024347Z
END:VEVENT
END:VCALENDAR