BEGIN:VCALENDAR
VERSION:2.0
PRODID:-//Drupal iCal API//EN
X-WR-CALNAME:Events items teaser
X-WR-TIMEZONE:America/Toronto
BEGIN:VTIMEZONE
TZID:America/Toronto
X-LIC-LOCATION:America/Toronto
BEGIN:DAYLIGHT
TZNAME:EDT
TZOFFSETFROM:-0500
TZOFFSETTO:-0400
DTSTART:20120311T070000
END:DAYLIGHT
BEGIN:STANDARD
TZNAME:EST
TZOFFSETFROM:-0400
TZOFFSETTO:-0500
DTSTART:20111106T060000
END:STANDARD
END:VTIMEZONE
BEGIN:VEVENT
UID:69e93dfeeb8f6
DTSTART;TZID=America/Toronto:20120918T110000
SEQUENCE:0
TRANSP:TRANSPARENT
DTEND;TZID=America/Toronto:20120918T133000
URL:https://uwaterloo.ca/student-life-centre/events/graduate-studies-fair
LOCATION:SLC - Student Life Centre 200 University Avenue West Great Hall - 
 Main Floor Waterloo ON N2L 3G1 Canada
SUMMARY:Graduate Studies Fair
CLASS:PUBLIC
DESCRIPTION:Find your program! speak to program representatives to learn mo
 re\nabout graduate studies options at the University of Waterloo.
DTSTAMP:20260422T213038Z
END:VEVENT
END:VCALENDAR