BEGIN:VCALENDAR
VERSION:2.0
PRODID:-//Drupal iCal API//EN
X-WR-CALNAME:Events items teaser
X-WR-TIMEZONE:America/Toronto
BEGIN:VTIMEZONE
TZID:America/Toronto
X-LIC-LOCATION:America/Toronto
BEGIN:DAYLIGHT
TZNAME:EDT
TZOFFSETFROM:-0500
TZOFFSETTO:-0400
DTSTART:20170312T070000
END:DAYLIGHT
BEGIN:DAYLIGHT
TZNAME:EDT
TZOFFSETFROM:-0500
TZOFFSETTO:-0400
DTSTART:20150308T070000
END:DAYLIGHT
BEGIN:DAYLIGHT
TZNAME:EDT
TZOFFSETFROM:-0500
TZOFFSETTO:-0400
DTSTART:20130310T070000
END:DAYLIGHT
BEGIN:DAYLIGHT
TZNAME:EDT
TZOFFSETFROM:-0500
TZOFFSETTO:-0400
DTSTART:20120311T070000
END:DAYLIGHT
BEGIN:STANDARD
TZNAME:EST
TZOFFSETFROM:-0400
TZOFFSETTO:-0500
DTSTART:20161106T060000
END:STANDARD
BEGIN:STANDARD
TZNAME:EST
TZOFFSETFROM:-0400
TZOFFSETTO:-0500
DTSTART:20141102T060000
END:STANDARD
BEGIN:STANDARD
TZNAME:EST
TZOFFSETFROM:-0400
TZOFFSETTO:-0500
DTSTART:20131103T060000
END:STANDARD
BEGIN:STANDARD
TZNAME:EST
TZOFFSETFROM:-0400
TZOFFSETTO:-0500
DTSTART:20121104T060000
END:STANDARD
END:VTIMEZONE
BEGIN:VEVENT
UID:69e15fccea1f7
DTSTART;TZID=America/Toronto:20170619T120000
SEQUENCE:0
TRANSP:TRANSPARENT
DTEND;TZID=America/Toronto:20170619T130000
URL:https://uwaterloo.ca/student-life-centre/events/slcpac-groundbreaking-c
 elebration
LOCATION:BMH - B.C. Matthews Hall 200 University Avenue West BMH Green Wate
 rloo ON N2L 3G1 Canada
SUMMARY:SLC/PAC Groundbreaking Celebration
CLASS:PUBLIC
DESCRIPTION:The Federation of Students [http://feds.ca/]\, Graduate Student
 \nAssociation [https://uwaterloo.ca/graduate-student-association/] and\nth
 e University of Waterloo [http://uwaterloo.ca/] invite you to\ncelebrate t
 he beginning of the construction phase of the SLC/PAC\nExpansion Project. 
 This 63\,000+ square foot expansion will provide our\nstudents with additi
 onal study and social space\, a new fitness centre\nand so much more. 
DTSTAMP:20260416T221645Z
END:VEVENT
BEGIN:VEVENT
UID:69e15fcceee64
DTSTART;TZID=America/Toronto:20151027T143000
SEQUENCE:0
TRANSP:TRANSPARENT
DTEND;TZID=America/Toronto:20151027T173000
URL:https://uwaterloo.ca/student-life-centre/events/professional-school-pos
 t-degree-day-0
LOCATION:SLC - Student Life Centre 200 University Avenue West Great Hall - 
 Main Floor Waterloo ON N2L 3G1 Canada
SUMMARY:Professional School &amp; Post-Degree Day
CLASS:PUBLIC
DESCRIPTION:Representatives will be available to discuss programs in the fi
 elds\nof:\n\n* MBA\n * Law\n * Engineering\n * Veterinary\n * Graduate pro
 grams
DTSTAMP:20260416T221645Z
END:VEVENT
BEGIN:VEVENT
UID:69e15fccf0406
DTSTART;TZID=America/Toronto:20151027T103000
SEQUENCE:0
TRANSP:TRANSPARENT
DTEND;TZID=America/Toronto:20151027T133000
URL:https://uwaterloo.ca/student-life-centre/events/professional-school-pos
 t-degree-day
LOCATION:SLC - Student Life Centre 200 University Avenue West Great Hall - 
 Main Floor Waterloo ON N2L 3G1 Canada
SUMMARY:Professional School &amp; Post-Degree Day
CLASS:PUBLIC
DESCRIPTION:Representatives will be available to discuss programs in the fi
 elds\nof:\n\n* Education\n * Health\n * Pharmacy\n * Optometry\n * Social 
 work\n\nCollege post-degree/certificate programs
DTSTAMP:20260416T221645Z
END:VEVENT
BEGIN:VEVENT
UID:69e15fccf1442
DTSTART;TZID=America/Toronto:20131112T093000
SEQUENCE:0
TRANSP:TRANSPARENT
DTEND;TZID=America/Toronto:20131112T163000
URL:https://uwaterloo.ca/student-life-centre/events/flu-clinic
LOCATION:SLC - Student Life Centre 200 University Avenue West Multi Purpose
  Room - Main Floor Waterloo ON N2L 3G1 Canada
SUMMARY:Flu Clinic
CLASS:PUBLIC
DESCRIPTION:Stay Healthy this winter!  Get your free flu shot at the SLC c
 linic.
DTSTAMP:20260416T221645Z
END:VEVENT
BEGIN:VEVENT
UID:69e15fccf23b3
DTSTART;TZID=America/Toronto:20131113T093000
SEQUENCE:0
TRANSP:TRANSPARENT
DTEND;TZID=America/Toronto:20131113T163000
URL:https://uwaterloo.ca/student-life-centre/events/flu-clinic
LOCATION:SLC - Student Life Centre 200 University Avenue West Multi Purpose
  Room - Main Floor Waterloo ON N2L 3G1 Canada
SUMMARY:Flu Clinic
CLASS:PUBLIC
DESCRIPTION:Stay Healthy this winter!  Get your free flu shot at the SLC c
 linic.
DTSTAMP:20260416T221645Z
END:VEVENT
BEGIN:VEVENT
UID:69e15fccf3387
DTSTART;TZID=America/Toronto:20131114T093000
SEQUENCE:0
TRANSP:TRANSPARENT
DTEND;TZID=America/Toronto:20131114T163000
URL:https://uwaterloo.ca/student-life-centre/events/flu-clinic
LOCATION:SLC - Student Life Centre 200 University Avenue West Multi Purpose
  Room - Main Floor Waterloo ON N2L 3G1 Canada
SUMMARY:Flu Clinic
CLASS:PUBLIC
DESCRIPTION:Stay Healthy this winter!  Get your free flu shot at the SLC c
 linic.
DTSTAMP:20260416T221645Z
END:VEVENT
BEGIN:VEVENT
UID:69e15fccf413d
DTSTART;TZID=America/Toronto:20130918T110000
SEQUENCE:0
TRANSP:TRANSPARENT
DTEND;TZID=America/Toronto:20130918T140000
URL:https://uwaterloo.ca/student-life-centre/events/volunteer-fair
LOCATION:SLC - Student Life Centre 200 University Avenue West Great Hall Wa
 terloo ON N2L 3G1 Canada
SUMMARY:Volunteer Fair
CLASS:PUBLIC
DESCRIPTION:The Centre for Career Action is hosting the Volunteer/Internshi
 p Fair\non Wednesday September 18th in the SLC.
DTSTAMP:20260416T221645Z
END:VEVENT
BEGIN:VEVENT
UID:69e15fcd0140b
DTSTART;TZID=America/Toronto:20150508T120000
SEQUENCE:0
TRANSP:TRANSPARENT
DTEND;TZID=America/Toronto:20150508T133000
URL:https://uwaterloo.ca/student-life-centre/events/used-bike-auction
LOCATION:SLC - Student Life Centre 200 University Avenue West Great Hall Wa
 terloo ON N2L 3G1 Canada
SUMMARY:Used Bike Auction
CLASS:PUBLIC
DESCRIPTION:USED BIKE AUCTION!\n\nNeed a bike this summer?\n\nThe Bike Cent
 re is hosting their annual used bike auction taking\nplace in the SLC Gre
 at Hall.\n\nBikes go on display at Noon.  Auction Starts at 12:30pm. \n\
 nCash or WatCard only.\n\nAll purchasers must be a uWaterloo Student\, Sta
 ff or Faculty - valid\nWatCard is required.
DTSTAMP:20260416T221645Z
END:VEVENT
BEGIN:VEVENT
UID:69e15fcd027ae
DTSTART;VALUE=DATE:20130317
SEQUENCE:0
TRANSP:TRANSPARENT
DTEND;VALUE=DATE:20130318
URL:https://uwaterloo.ca/student-life-centre/events/st-paddys-day-bomber
LOCATION:SLC - Student Life Centre 200 University Avenue West SLC 1123 - Th
 e Bombshelter Waterloo ON N2L 3G1 Canada
SUMMARY:St. Paddy's Day at The Bomber
CLASS:PUBLIC
DESCRIPTION:St. Paddy's Day at the Bombshelter Pub! Don't miss out on our I
 rish\nfestivities! \n\nDoors open Sunday March 17th at 10:30am for ticket 
 holders. Ticket\nholders get the free Bomber Collective St. Paddy's Day T-
 Shirt\, a\nBomber Breakfast and jump the line privileges! Doors open to th
 e\npublic at 11am.
X-MICROSOFT-CDO-ALLDAYEVENT:TRUE
DTSTAMP:20260416T221645Z
END:VEVENT
BEGIN:VEVENT
UID:69e15fcd03832
DTSTART;TZID=America/Toronto:20121114T093000
SEQUENCE:0
TRANSP:TRANSPARENT
DTEND;TZID=America/Toronto:20121114T163000
URL:https://uwaterloo.ca/student-life-centre/events/flu-vaccination-clinic
LOCATION:SLC - Student Life Centre 200 University Avenue West Multi Purpose
  Room - Main Floor Waterloo ON N2L 3G1 Canada
SUMMARY:Flu Vaccination Clinic
CLASS:PUBLIC
DESCRIPTION:Waterloo Health Services will be hosting a Flu Vaccination Clin
 ic in\nthe Multipurpose Room\, Student Life Centre.
DTSTAMP:20260416T221645Z
END:VEVENT
BEGIN:VEVENT
UID:69e15fcd04729
DTSTART;TZID=America/Toronto:20121115T093000
SEQUENCE:0
TRANSP:TRANSPARENT
DTEND;TZID=America/Toronto:20121115T163000
URL:https://uwaterloo.ca/student-life-centre/events/flu-vaccination-clinic
LOCATION:SLC - Student Life Centre 200 University Avenue West Multi Purpose
  Room - Main Floor Waterloo ON N2L 3G1 Canada
SUMMARY:Flu Vaccination Clinic
CLASS:PUBLIC
DESCRIPTION:Waterloo Health Services will be hosting a Flu Vaccination Clin
 ic in\nthe Multipurpose Room\, Student Life Centre.
DTSTAMP:20260416T221645Z
END:VEVENT
BEGIN:VEVENT
UID:69e15fcd0532e
DTSTART;TZID=America/Toronto:20121116T093000
SEQUENCE:0
TRANSP:TRANSPARENT
DTEND;TZID=America/Toronto:20121116T163000
URL:https://uwaterloo.ca/student-life-centre/events/flu-vaccination-clinic
LOCATION:SLC - Student Life Centre 200 University Avenue West Multi Purpose
  Room - Main Floor Waterloo ON N2L 3G1 Canada
SUMMARY:Flu Vaccination Clinic
CLASS:PUBLIC
DESCRIPTION:Waterloo Health Services will be hosting a Flu Vaccination Clin
 ic in\nthe Multipurpose Room\, Student Life Centre.
DTSTAMP:20260416T221645Z
END:VEVENT
BEGIN:VEVENT
UID:69e15fcd05e33
DTSTART;TZID=America/Toronto:20121017T110000
SEQUENCE:0
TRANSP:TRANSPARENT
DTEND;TZID=America/Toronto:20121017T140000
URL:https://uwaterloo.ca/student-life-centre/events/professional-and-post-d
 egree-day
LOCATION:SLC - Student Life Centre 200 University Avenue West Great Hall - 
 Main Floor Waterloo ON N2L 3G1 Canada
SUMMARY:Professional and Post-Degree Day
CLASS:PUBLIC
DESCRIPTION:* 100 + booths\n * Canadian and international institutions\n * 
 Program information and funding options
DTSTAMP:20260416T221645Z
END:VEVENT
BEGIN:VEVENT
UID:69e15fcd06df0
DTSTART;TZID=America/Toronto:20121018T110000
SEQUENCE:0
TRANSP:TRANSPARENT
DTEND;TZID=America/Toronto:20121018T140000
URL:https://uwaterloo.ca/student-life-centre/events/professional-and-post-d
 egree-day
LOCATION:SLC - Student Life Centre 200 University Avenue West Great Hall - 
 Main Floor Waterloo ON N2L 3G1 Canada
SUMMARY:Professional and Post-Degree Day
CLASS:PUBLIC
DESCRIPTION:* 100 + booths\n * Canadian and international institutions\n * 
 Program information and funding options
DTSTAMP:20260416T221645Z
END:VEVENT
BEGIN:VEVENT
UID:69e15fcd07a9e
DTSTART;TZID=America/Toronto:20121009T110000
SEQUENCE:0
TRANSP:TRANSPARENT
DTEND;TZID=America/Toronto:20121009T140000
URL:https://uwaterloo.ca/student-life-centre/events/oktoberfest
LOCATION:SLC - Student Life Centre 200 University Avenue West Great Hall - 
 Main Floor Waterloo ON N2L 3G1 Canada
SUMMARY:Oktoberfest
CLASS:PUBLIC
DESCRIPTION:· Come on out and learn the history of Oktoberfest
DTSTAMP:20260416T221645Z
END:VEVENT
END:VCALENDAR