BEGIN:VCALENDAR
VERSION:2.0
PRODID:-//Drupal iCal API//EN
X-WR-CALNAME:Events items teaser
X-WR-TIMEZONE:America/Toronto
BEGIN:VTIMEZONE
TZID:America/Toronto
X-LIC-LOCATION:America/Toronto
BEGIN:DAYLIGHT
TZNAME:EDT
TZOFFSETFROM:-0500
TZOFFSETTO:-0400
DTSTART:20170312T070000
END:DAYLIGHT
BEGIN:DAYLIGHT
TZNAME:EDT
TZOFFSETFROM:-0500
TZOFFSETTO:-0400
DTSTART:20150308T070000
END:DAYLIGHT
BEGIN:DAYLIGHT
TZNAME:EDT
TZOFFSETFROM:-0500
TZOFFSETTO:-0400
DTSTART:20130310T070000
END:DAYLIGHT
BEGIN:DAYLIGHT
TZNAME:EDT
TZOFFSETFROM:-0500
TZOFFSETTO:-0400
DTSTART:20120311T070000
END:DAYLIGHT
BEGIN:DAYLIGHT
TZNAME:EDT
TZOFFSETFROM:-0500
TZOFFSETTO:-0400
DTSTART:20140309T070000
END:DAYLIGHT
BEGIN:STANDARD
TZNAME:EST
TZOFFSETFROM:-0400
TZOFFSETTO:-0500
DTSTART:20161106T060000
END:STANDARD
BEGIN:STANDARD
TZNAME:EST
TZOFFSETFROM:-0400
TZOFFSETTO:-0500
DTSTART:20141102T060000
END:STANDARD
BEGIN:STANDARD
TZNAME:EST
TZOFFSETFROM:-0400
TZOFFSETTO:-0500
DTSTART:20121104T060000
END:STANDARD
BEGIN:STANDARD
TZNAME:EST
TZOFFSETFROM:-0400
TZOFFSETTO:-0500
DTSTART:20111106T060000
END:STANDARD
BEGIN:STANDARD
TZNAME:EST
TZOFFSETFROM:-0400
TZOFFSETTO:-0500
DTSTART:20131103T060000
END:STANDARD
END:VTIMEZONE
BEGIN:VEVENT
UID:69e1389f7853b
DTSTART;TZID=America/Toronto:20170619T120000
SEQUENCE:0
TRANSP:TRANSPARENT
DTEND;TZID=America/Toronto:20170619T130000
URL:https://uwaterloo.ca/student-life-centre/events/slcpac-groundbreaking-c
 elebration
LOCATION:BMH - B.C. Matthews Hall 200 University Avenue West BMH Green Wate
 rloo ON N2L 3G1 Canada
SUMMARY:SLC/PAC Groundbreaking Celebration
CLASS:PUBLIC
DESCRIPTION:The Federation of Students [http://feds.ca/]\, Graduate Student
 \nAssociation [https://uwaterloo.ca/graduate-student-association/] and\nth
 e University of Waterloo [http://uwaterloo.ca/] invite you to\ncelebrate t
 he beginning of the construction phase of the SLC/PAC\nExpansion Project. 
 This 63\,000+ square foot expansion will provide our\nstudents with additi
 onal study and social space\, a new fitness centre\nand so much more. 
DTSTAMP:20260416T192935Z
END:VEVENT
BEGIN:VEVENT
UID:69e1389f7c208
DTSTART;TZID=America/Toronto:20151027T143000
SEQUENCE:0
TRANSP:TRANSPARENT
DTEND;TZID=America/Toronto:20151027T173000
URL:https://uwaterloo.ca/student-life-centre/events/professional-school-pos
 t-degree-day-0
LOCATION:SLC - Student Life Centre 200 University Avenue West Great Hall - 
 Main Floor Waterloo ON N2L 3G1 Canada
SUMMARY:Professional School &amp; Post-Degree Day
CLASS:PUBLIC
DESCRIPTION:Representatives will be available to discuss programs in the fi
 elds\nof:\n\n* MBA\n * Law\n * Engineering\n * Veterinary\n * Graduate pro
 grams
DTSTAMP:20260416T192935Z
END:VEVENT
BEGIN:VEVENT
UID:69e1389f7d667
DTSTART;TZID=America/Toronto:20151027T103000
SEQUENCE:0
TRANSP:TRANSPARENT
DTEND;TZID=America/Toronto:20151027T133000
URL:https://uwaterloo.ca/student-life-centre/events/professional-school-pos
 t-degree-day
LOCATION:SLC - Student Life Centre 200 University Avenue West Great Hall - 
 Main Floor Waterloo ON N2L 3G1 Canada
SUMMARY:Professional School &amp; Post-Degree Day
CLASS:PUBLIC
DESCRIPTION:Representatives will be available to discuss programs in the fi
 elds\nof:\n\n* Education\n * Health\n * Pharmacy\n * Optometry\n * Social 
 work\n\nCollege post-degree/certificate programs
DTSTAMP:20260416T192935Z
END:VEVENT
BEGIN:VEVENT
UID:69e1389f7e761
DTSTART;TZID=America/Toronto:20130918T110000
SEQUENCE:0
TRANSP:TRANSPARENT
DTEND;TZID=America/Toronto:20130918T140000
URL:https://uwaterloo.ca/student-life-centre/events/volunteer-fair
LOCATION:SLC - Student Life Centre 200 University Avenue West Great Hall Wa
 terloo ON N2L 3G1 Canada
SUMMARY:Volunteer Fair
CLASS:PUBLIC
DESCRIPTION:The Centre for Career Action is hosting the Volunteer/Internshi
 p Fair\non Wednesday September 18th in the SLC.
DTSTAMP:20260416T192935Z
END:VEVENT
BEGIN:VEVENT
UID:69e1389f7f79f
DTSTART;TZID=America/Toronto:20130508T100000
SEQUENCE:0
TRANSP:TRANSPARENT
DTEND;TZID=America/Toronto:20130508T140000
URL:https://uwaterloo.ca/student-life-centre/events/spring-athletics-open-h
 ouse
LOCATION:SLC - Student Life Centre 200 University Avenue West Great Hall Wa
 terloo ON N2L 3G1 Canada
SUMMARY:Spring Athletics Open House
CLASS:PUBLIC
DESCRIPTION:Come learn all about what Campus Recreation has to offer includ
 ing\ninformation on Fitness\, Wellness\, Clubs\, Aquatics\, First Aid\,\nC
 onditioning\, Intramurals and more! Lots of prizes to be won\nthroughout t
 he day.
DTSTAMP:20260416T192935Z
END:VEVENT
BEGIN:VEVENT
UID:69e1389f806d2
DTSTART;VALUE=DATE:20130317
SEQUENCE:0
TRANSP:TRANSPARENT
DTEND;VALUE=DATE:20130318
URL:https://uwaterloo.ca/student-life-centre/events/st-paddys-day-bomber
LOCATION:SLC - Student Life Centre 200 University Avenue West SLC 1123 - Th
 e Bombshelter Waterloo ON N2L 3G1 Canada
SUMMARY:St. Paddy's Day at The Bomber
CLASS:PUBLIC
DESCRIPTION:St. Paddy's Day at the Bombshelter Pub! Don't miss out on our I
 rish\nfestivities! \n\nDoors open Sunday March 17th at 10:30am for ticket 
 holders. Ticket\nholders get the free Bomber Collective St. Paddy's Day T-
 Shirt\, a\nBomber Breakfast and jump the line privileges! Doors open to th
 e\npublic at 11am.
X-MICROSOFT-CDO-ALLDAYEVENT:TRUE
DTSTAMP:20260416T192935Z
END:VEVENT
BEGIN:VEVENT
UID:69e1389f816d7
DTSTART;TZID=America/Toronto:20130312T093000
SEQUENCE:0
TRANSP:TRANSPARENT
DTEND;TZID=America/Toronto:20130312T153000
URL:https://uwaterloo.ca/student-life-centre/events/march-break-open-house-
 2013
LOCATION:SLC - Student Life Centre 200 University Avenue West Great Hall - 
 Main Floor Waterloo ON N2L 3G1 Canada
SUMMARY:March Break Open House 2013
CLASS:PUBLIC
DESCRIPTION:Join us on campus for a full-day program designed to answer the
  more\ndetailed questions that you may have\, now that you’ve applied to
 \nWaterloo. Tuesday March 12\, &amp; Wednesday March 13\, 2013.
DTSTAMP:20260416T192935Z
END:VEVENT
BEGIN:VEVENT
UID:69e1389f8275f
DTSTART;TZID=America/Toronto:20130313T093000
SEQUENCE:0
TRANSP:TRANSPARENT
DTEND;TZID=America/Toronto:20130313T153000
URL:https://uwaterloo.ca/student-life-centre/events/march-break-open-house-
 2013
LOCATION:SLC - Student Life Centre 200 University Avenue West Great Hall - 
 Main Floor Waterloo ON N2L 3G1 Canada
SUMMARY:March Break Open House 2013
CLASS:PUBLIC
DESCRIPTION:Join us on campus for a full-day program designed to answer the
  more\ndetailed questions that you may have\, now that you’ve applied to
 \nWaterloo. Tuesday March 12\, &amp; Wednesday March 13\, 2013.
DTSTAMP:20260416T192935Z
END:VEVENT
BEGIN:VEVENT
UID:69e1389f83432
DTSTART;TZID=America/Toronto:20121103T100000
SEQUENCE:0
TRANSP:TRANSPARENT
DTEND;TZID=America/Toronto:20121103T160000
URL:https://uwaterloo.ca/student-life-centre/events/fall-open-house
LOCATION:SLC - Student Life Centre 200 University Avenue West Main Floor Wa
 terloo ON N2L 3G1 Canada
SUMMARY:Fall Open House
CLASS:PUBLIC
DESCRIPTION:You and your family are invited to join us at the University of
 \nWaterloo for a special event designed with your questions and\ninterests
  in mind. 
DTSTAMP:20260416T192935Z
END:VEVENT
BEGIN:VEVENT
UID:69e1389f8450f
DTSTART;VALUE=DATE:20140610
SEQUENCE:0
TRANSP:TRANSPARENT
DTEND;VALUE=DATE:20140611
URL:https://uwaterloo.ca/student-life-centre/events/convocation-receptions
LOCATION:SLC - Student Life Centre 200 University Avenue West Great Hall - 
 Main Floor Waterloo ON N2L 3G1 Canada
SUMMARY:Convocation Receptions
CLASS:PUBLIC
DESCRIPTION:Come celebrate your new status as a Waterloo alumnus at the of
 ficial\nConvocation reception.
X-MICROSOFT-CDO-ALLDAYEVENT:TRUE
DTSTAMP:20260416T192935Z
END:VEVENT
BEGIN:VEVENT
UID:69e1389f85779
DTSTART;VALUE=DATE:20140611
SEQUENCE:0
TRANSP:TRANSPARENT
DTEND;VALUE=DATE:20140612
URL:https://uwaterloo.ca/student-life-centre/events/convocation-receptions
LOCATION:SLC - Student Life Centre 200 University Avenue West Great Hall - 
 Main Floor Waterloo ON N2L 3G1 Canada
SUMMARY:Convocation Receptions
CLASS:PUBLIC
DESCRIPTION:Come celebrate your new status as a Waterloo alumnus at the of
 ficial\nConvocation reception.
X-MICROSOFT-CDO-ALLDAYEVENT:TRUE
DTSTAMP:20260416T192935Z
END:VEVENT
BEGIN:VEVENT
UID:69e1389f862cc
DTSTART;VALUE=DATE:20140611
SEQUENCE:0
TRANSP:TRANSPARENT
DTEND;VALUE=DATE:20140612
URL:https://uwaterloo.ca/student-life-centre/events/convocation-receptions
LOCATION:SLC - Student Life Centre 200 University Avenue West Great Hall - 
 Main Floor Waterloo ON N2L 3G1 Canada
SUMMARY:Convocation Receptions
CLASS:PUBLIC
DESCRIPTION:Come celebrate your new status as a Waterloo alumnus at the of
 ficial\nConvocation reception.
X-MICROSOFT-CDO-ALLDAYEVENT:TRUE
DTSTAMP:20260416T192935Z
END:VEVENT
BEGIN:VEVENT
UID:69e1389f86dcf
DTSTART;VALUE=DATE:20140613
SEQUENCE:0
TRANSP:TRANSPARENT
DTEND;VALUE=DATE:20140614
URL:https://uwaterloo.ca/student-life-centre/events/convocation-receptions
LOCATION:SLC - Student Life Centre 200 University Avenue West Great Hall - 
 Main Floor Waterloo ON N2L 3G1 Canada
SUMMARY:Convocation Receptions
CLASS:PUBLIC
DESCRIPTION:Come celebrate your new status as a Waterloo alumnus at the of
 ficial\nConvocation reception.
X-MICROSOFT-CDO-ALLDAYEVENT:TRUE
DTSTAMP:20260416T192935Z
END:VEVENT
BEGIN:VEVENT
UID:69e1389f877c4
DTSTART;VALUE=DATE:20140614
SEQUENCE:0
TRANSP:TRANSPARENT
DTEND;VALUE=DATE:20140615
URL:https://uwaterloo.ca/student-life-centre/events/convocation-receptions
LOCATION:SLC - Student Life Centre 200 University Avenue West Great Hall - 
 Main Floor Waterloo ON N2L 3G1 Canada
SUMMARY:Convocation Receptions
CLASS:PUBLIC
DESCRIPTION:Come celebrate your new status as a Waterloo alumnus at the of
 ficial\nConvocation reception.
X-MICROSOFT-CDO-ALLDAYEVENT:TRUE
DTSTAMP:20260416T192935Z
END:VEVENT
BEGIN:VEVENT
UID:69e1389f881d6
DTSTART;VALUE=DATE:20141024
SEQUENCE:0
TRANSP:TRANSPARENT
DTEND;VALUE=DATE:20141025
URL:https://uwaterloo.ca/student-life-centre/events/convocation-receptions
LOCATION:SLC - Student Life Centre 200 University Avenue West Great Hall - 
 Main Floor Waterloo ON N2L 3G1 Canada
SUMMARY:Convocation Receptions
CLASS:PUBLIC
DESCRIPTION:Come celebrate your new status as a Waterloo alumnus at the of
 ficial\nConvocation reception.
X-MICROSOFT-CDO-ALLDAYEVENT:TRUE
DTSTAMP:20260416T192935Z
END:VEVENT
BEGIN:VEVENT
UID:69e1389f88bf0
DTSTART;VALUE=DATE:20141025
SEQUENCE:0
TRANSP:TRANSPARENT
DTEND;VALUE=DATE:20141026
URL:https://uwaterloo.ca/student-life-centre/events/convocation-receptions
LOCATION:SLC - Student Life Centre 200 University Avenue West Great Hall - 
 Main Floor Waterloo ON N2L 3G1 Canada
SUMMARY:Convocation Receptions
CLASS:PUBLIC
DESCRIPTION:Come celebrate your new status as a Waterloo alumnus at the of
 ficial\nConvocation reception.
X-MICROSOFT-CDO-ALLDAYEVENT:TRUE
DTSTAMP:20260416T192935Z
END:VEVENT
BEGIN:VEVENT
UID:69e1389f89591
DTSTART;TZID=America/Toronto:20120912T110000
SEQUENCE:0
TRANSP:TRANSPARENT
DTEND;TZID=America/Toronto:20120912T150000
URL:https://uwaterloo.ca/student-life-centre/events/student-life-centre-ope
 n-house
LOCATION:SLC - Student Life Centre 200 University Avenue West Great Hall - 
 Main Floor Waterloo ON N2L 3G1 Canada
SUMMARY:Student Life Centre Open House
CLASS:PUBLIC
DESCRIPTION:Check out the many services and businesses that make up the Stu
 dent\nLife Centre! \n\nThe businesses and services will all be set up in 
 the Great Hall\, find\nout all the SLC has to offer in one stop!   
DTSTAMP:20260416T192935Z
END:VEVENT
END:VCALENDAR