BEGIN:VCALENDAR
VERSION:2.0
PRODID:-//Drupal iCal API//EN
X-WR-CALNAME:Events items teaser
X-WR-TIMEZONE:America/Toronto
BEGIN:VTIMEZONE
TZID:America/Toronto
X-LIC-LOCATION:America/Toronto
BEGIN:DAYLIGHT
TZNAME:EDT
TZOFFSETFROM:-0500
TZOFFSETTO:-0400
DTSTART:20210314T070000
END:DAYLIGHT
BEGIN:STANDARD
TZNAME:EST
TZOFFSETFROM:-0400
TZOFFSETTO:-0500
DTSTART:20211107T060000
END:STANDARD
END:VTIMEZONE
BEGIN:VEVENT
UID:69b5aa3dd9bff
DTSTART;TZID=America/Toronto:20220222T140000
SEQUENCE:0
TRANSP:TRANSPARENT
DTEND;TZID=America/Toronto:20220222T153000
URL:https://uwaterloo.ca/student-teaching-excellence-committee/events/decol
 onizing-research-methodologies-sustainability
SUMMARY:Decolonizing Research Methodologies for Sustainability
CLASS:PUBLIC
DESCRIPTION:The Faculty of Environment invites you to attend a special Spea
 kers\nSeries on DECOLONIZING RESEARCH METHODOLOGIES FOR SUSTAINABILITY.
DTSTAMP:20260314T183437Z
END:VEVENT
END:VCALENDAR