BEGIN:VCALENDAR
VERSION:2.0
PRODID:-//Drupal iCal API//EN
X-WR-CALNAME:Events items teaser
X-WR-TIMEZONE:America/Toronto
BEGIN:VTIMEZONE
TZID:America/Toronto
X-LIC-LOCATION:America/Toronto
BEGIN:DAYLIGHT
TZNAME:EDT
TZOFFSETFROM:-0500
TZOFFSETTO:-0400
DTSTART:20250309T070000
END:DAYLIGHT
BEGIN:DAYLIGHT
TZNAME:EDT
TZOFFSETFROM:-0500
TZOFFSETTO:-0400
DTSTART:20260308T070000
END:DAYLIGHT
BEGIN:STANDARD
TZNAME:EST
TZOFFSETFROM:-0400
TZOFFSETTO:-0500
DTSTART:20251102T060000
END:STANDARD
END:VTIMEZONE
BEGIN:VEVENT
UID:69de1af254bee
DTSTART;TZID=America/Toronto:20260227T113000
SEQUENCE:0
TRANSP:TRANSPARENT
DTEND;TZID=America/Toronto:20260227T133000
URL:https://uwaterloo.ca/students/events/collaborative-team-building-chapte
 r-3-community-leadership
SUMMARY:Collaborative Team Building (Chapter 3 - Community Leadership\nCert
 ificate)
CLASS:PUBLIC
DESCRIPTION:Join us in our new Community Leadership Certificate program\, r
 eplacing\nthe old Student Leadership Program.\n\nThe March 17 session will
  be held in-person.
DTSTAMP:20260414T104610Z
END:VEVENT
BEGIN:VEVENT
UID:69de1af255ac8
DTSTART;TZID=America/Toronto:20260317T170000
SEQUENCE:0
TRANSP:TRANSPARENT
DTEND;TZID=America/Toronto:20260317T190000
URL:https://uwaterloo.ca/students/events/collaborative-team-building-chapte
 r-3-community-leadership
SUMMARY:Collaborative Team Building (Chapter 3 - Community Leadership\nCert
 ificate)
CLASS:PUBLIC
DESCRIPTION:Join us in our new Community Leadership Certificate program\, r
 eplacing\nthe old Student Leadership Program.\n\nThe March 17 session will
  be held in-person.
DTSTAMP:20260414T104610Z
END:VEVENT
BEGIN:VEVENT
UID:69de1af2563cf
DTSTART;TZID=America/Toronto:20260325T090000
SEQUENCE:0
TRANSP:TRANSPARENT
DTEND;TZID=America/Toronto:20260325T110000
URL:https://uwaterloo.ca/students/events/collaborative-team-building-chapte
 r-3-community-leadership
SUMMARY:Collaborative Team Building (Chapter 3 - Community Leadership\nCert
 ificate)
CLASS:PUBLIC
DESCRIPTION:Join us in our new Community Leadership Certificate program\, r
 eplacing\nthe old Student Leadership Program.\n\nThe March 17 session will
  be held in-person.
DTSTAMP:20260414T104610Z
END:VEVENT
BEGIN:VEVENT
UID:69de1af256c54
DTSTART;TZID=America/Toronto:20260402T130000
SEQUENCE:0
TRANSP:TRANSPARENT
DTEND;TZID=America/Toronto:20260402T150000
URL:https://uwaterloo.ca/students/events/collaborative-team-building-chapte
 r-3-community-leadership
SUMMARY:Collaborative Team Building (Chapter 3 - Community Leadership\nCert
 ificate)
CLASS:PUBLIC
DESCRIPTION:Join us in our new Community Leadership Certificate program\, r
 eplacing\nthe old Student Leadership Program.\n\nThe March 17 session will
  be held in-person.
DTSTAMP:20260414T104610Z
END:VEVENT
END:VCALENDAR