BEGIN:VCALENDAR
VERSION:2.0
PRODID:-//Drupal iCal API//EN
X-WR-CALNAME:Events items teaser
X-WR-TIMEZONE:America/Toronto
BEGIN:VTIMEZONE
TZID:America/Toronto
X-LIC-LOCATION:America/Toronto
BEGIN:DAYLIGHT
TZNAME:EDT
TZOFFSETFROM:-0500
TZOFFSETTO:-0400
DTSTART:20250309T070000
END:DAYLIGHT
BEGIN:STANDARD
TZNAME:EST
TZOFFSETFROM:-0400
TZOFFSETTO:-0500
DTSTART:20241103T060000
END:STANDARD
END:VTIMEZONE
BEGIN:VEVENT
UID:69e690941b85b
DTSTART;TZID=America/Toronto:20250910T120000
SEQUENCE:0
TRANSP:TRANSPARENT
DTEND;TZID=America/Toronto:20250910T140000
URL:https://uwaterloo.ca/sustainability/events/free-store-pop-september-10
LOCATION:SLC - Student Life Centre 200 University Avenue West Waterloo ON N
 2L 3G1 Canada
SUMMARY:Free Store Pop-up: September 10
CLASS:PUBLIC
DESCRIPTION:Swing by our first Free Store Pop-Up of the year at the SLC\nM
 ARKETPLACE to grab free school supplies\, home goods\, and more\, or\ndrop
  off a donation of your gently used items.
DTSTAMP:20260420T204612Z
END:VEVENT
END:VCALENDAR