BEGIN:VCALENDAR
VERSION:2.0
PRODID:-//Drupal iCal API//EN
X-WR-CALNAME:Events items teaser
X-WR-TIMEZONE:America/Toronto
BEGIN:VTIMEZONE
TZID:America/Toronto
X-LIC-LOCATION:America/Toronto
BEGIN:DAYLIGHT
TZNAME:EDT
TZOFFSETFROM:-0500
TZOFFSETTO:-0400
DTSTART:20200308T070000
END:DAYLIGHT
BEGIN:STANDARD
TZNAME:EST
TZOFFSETFROM:-0400
TZOFFSETTO:-0500
DTSTART:20201101T060000
END:STANDARD
END:VTIMEZONE
BEGIN:VEVENT
UID:69e6ef2d541f6
DTSTART;TZID=America/Toronto:20201110T133000
SEQUENCE:0
TRANSP:TRANSPARENT
DTEND;TZID=America/Toronto:20201110T150000
URL:https://uwaterloo.ca/sustainability/events/shift-neutral-town-hall
SUMMARY:Shift: Neutral Town Hall
CLASS:PUBLIC
DESCRIPTION:Waterloo is excited to formally launch _Shift: _Neutral\n[/su
 stainability/node/582/bility/node/658]\, a roadmap for the campus\nto achi
 eve carbon neutrality by 2050.
DTSTAMP:20260421T032949Z
END:VEVENT
END:VCALENDAR