BEGIN:VCALENDAR
VERSION:2.0
PRODID:-//Drupal iCal API//EN
X-WR-CALNAME:Events items teaser
X-WR-TIMEZONE:America/Toronto
BEGIN:VTIMEZONE
TZID:America/Toronto
X-LIC-LOCATION:America/Toronto
BEGIN:DAYLIGHT
TZNAME:EDT
TZOFFSETFROM:-0500
TZOFFSETTO:-0400
DTSTART:20240310T070000
END:DAYLIGHT
BEGIN:STANDARD
TZNAME:EST
TZOFFSETFROM:-0400
TZOFFSETTO:-0500
DTSTART:20231105T060000
END:STANDARD
END:VTIMEZONE
BEGIN:VEVENT
UID:69e6f1de7613d
DTSTART;TZID=America/Toronto:20240622T084500
SEQUENCE:0
TRANSP:TRANSPARENT
DTEND;TZID=America/Toronto:20240622T120000
URL:https://uwaterloo.ca/sustainability/events/waterloo-ride-water-cycles
LOCATION:E3 - Engineering 3 200 University Avenue West Waterloo ON N2L 3G1 
 Canada
SUMMARY:Waterloo Ride with Water Cycles
CLASS:PUBLIC
DESCRIPTION:Explore the hidden wonders of the Grand River by bike with ride
 s for\nall levels\, including families (kids must be 10 or over)!
DTSTAMP:20260421T034118Z
END:VEVENT
END:VCALENDAR