BEGIN:VCALENDAR
VERSION:2.0
PRODID:-//Drupal iCal API//EN
X-WR-CALNAME:Events items teaser
X-WR-TIMEZONE:America/Toronto
BEGIN:VTIMEZONE
TZID:America/Toronto
X-LIC-LOCATION:America/Toronto
BEGIN:DAYLIGHT
TZNAME:EDT
TZOFFSETFROM:-0500
TZOFFSETTO:-0400
DTSTART:20240310T070000
END:DAYLIGHT
BEGIN:STANDARD
TZNAME:EST
TZOFFSETFROM:-0400
TZOFFSETTO:-0500
DTSTART:20231105T060000
END:STANDARD
END:VTIMEZONE
BEGIN:VEVENT
UID:69e621c4dace7
DTSTART;TZID=America/Toronto:20241021T100000
SEQUENCE:0
TRANSP:TRANSPARENT
DTEND;TZID=America/Toronto:20241021T140000
URL:https://uwaterloo.ca/sustainability/events/waste-week-celebration-free-
 store-pop
LOCATION:SLC - Student Life Centre 200 University Avenue West Waterloo ON N
 2L 3G1 Canada
SUMMARY:Waste Week Celebration &amp; Free Store Pop-up
CLASS:PUBLIC
DESCRIPTION:Join the Sustainability Office as we celebrate the start of was
 te\nreduction week! Featuring games\, prizes and a special Free Store\npop
 -up\, we want to celebrate the ways our campus is working towards\nzero-wa
 ste [https://uwaterloo.ca/sustainability/operations/waste]and\nhow our UWa
 terloo community can continue to support this goal. \n\nFREE STORE: Last 
 minute Halloween plans? We've got you covered! The\nSustainability Office 
 will be hosting a Free Store pop-up in tandem\nwith the Waste Celebration\
 , featuring items from the spookiest of\nholidays as well as other home de
 cor and items. \n\nWHEN: Monday\, October 21\, 2024 | 10am-2pm\n\nWHERE: 
 SLC Multipurpose Room
DTSTAMP:20260420T125324Z
END:VEVENT
END:VCALENDAR