BEGIN:VCALENDAR
VERSION:2.0
PRODID:-//Drupal iCal API//EN
X-WR-CALNAME:Events items teaser
X-WR-TIMEZONE:America/Toronto
BEGIN:VTIMEZONE
TZID:America/Toronto
X-LIC-LOCATION:America/Toronto
BEGIN:DAYLIGHT
TZNAME:EDT
TZOFFSETFROM:-0500
TZOFFSETTO:-0400
DTSTART:20260308T070000
END:DAYLIGHT
BEGIN:STANDARD
TZNAME:EST
TZOFFSETFROM:-0400
TZOFFSETTO:-0500
DTSTART:20251102T060000
END:STANDARD
END:VTIMEZONE
BEGIN:VEVENT
UID:69ea5d8f0b44e
DTSTART;TZID=America/Toronto:20260707T110000
SEQUENCE:0
TRANSP:TRANSPARENT
DTEND;TZID=America/Toronto:20260707T130000
URL:https://uwaterloo.ca/sustainability/events/free-store-drop-5
LOCATION:CPH - Carl A. Pollock Hall 200 University Avenue West Waterloo ON 
 N2L 3G1 Canada
SUMMARY:Free Store Drop-In
CLASS:PUBLIC
DESCRIPTION:Mid-semester is a great time to stop by and browse gently used\
 nkitchenware\, school supplies\, household essentials\, and a few items to
 \nspruce up your space\, all while supporting sustainability on campus.\nT
 here are still plenty of useful items available\, and donations are\nalway
 s welcome to help other students throughout the semester.
DTSTAMP:20260423T175735Z
END:VEVENT
BEGIN:VEVENT
UID:69ea5d8f0db0e
DTSTART;TZID=America/Toronto:20260609T110000
SEQUENCE:0
TRANSP:TRANSPARENT
DTEND;TZID=America/Toronto:20260609T130000
URL:https://uwaterloo.ca/sustainability/events/free-store-drop-4
LOCATION:CPH - Carl A. Pollock Hall 200 University Avenue West Waterloo ON 
 N2L 3G1 Canada
SUMMARY:Free Store Drop-In
CLASS:PUBLIC
DESCRIPTION:Now that the term is in full swing\, stop by for gently used\nk
 itchenware\, school supplies\, and household essentials. Donations are\nal
 ways welcome to help support other students and campus\nsustainability.
DTSTAMP:20260423T175735Z
END:VEVENT
BEGIN:VEVENT
UID:69ea5d8f0ec5a
DTSTART;TZID=America/Toronto:20260512T110000
SEQUENCE:0
TRANSP:TRANSPARENT
DTEND;TZID=America/Toronto:20260512T130000
URL:https://uwaterloo.ca/sustainability/events/free-store-drop-3
LOCATION:CPH - Carl A. Pollock Hall 200 University Avenue West Waterloo ON 
 N2L 3G1 Canada
SUMMARY:Free Store Drop-In
CLASS:PUBLIC
DESCRIPTION:Getting ready for the new term? Find gently used kitchenware\, 
 school\nsupplies\, and household essentials while supporting sustainabilit
 y and\nfellow students.
DTSTAMP:20260423T175735Z
END:VEVENT
BEGIN:VEVENT
UID:69ea5d8f10460
DTSTART;TZID=America/Toronto:20260425T093000
SEQUENCE:0
TRANSP:TRANSPARENT
DTEND;TZID=America/Toronto:20260425T120000
URL:https://uwaterloo.ca/sustainability/events/april-repair-event
LOCATION:43 Queen Street South Kitchener ON N2G1V8 Canada
SUMMARY:April Repair Event
CLASS:PUBLIC
DESCRIPTION:Drop-in repair event with 4RepairKW and The Working Centre.
DTSTAMP:20260423T175735Z
END:VEVENT
BEGIN:VEVENT
UID:69ea5d8f11080
DTSTART;TZID=America/Toronto:20260422T120000
SEQUENCE:0
TRANSP:TRANSPARENT
DTEND;TZID=America/Toronto:20260422T130000
URL:https://uwaterloo.ca/sustainability/events/green-ambassador-earth-day-p
 icnic
SUMMARY:Green Ambassador Earth Day Picnic
CLASS:PUBLIC
DESCRIPTION:Join the Sustainability Office for an informal picnic with Gree
 n\nOffice and Green Labs ambassadors\, in celebration of Earth Day.
DTSTAMP:20260423T175735Z
END:VEVENT
BEGIN:VEVENT
UID:69ea5d8f11d8d
DTSTART;TZID=America/Toronto:20260603T110000
SEQUENCE:0
TRANSP:TRANSPARENT
DTEND;TZID=America/Toronto:20260603T140000
URL:https://uwaterloo.ca/sustainability/events/bike-fair-2026
LOCATION:Peter Russell Rock Garden 200 University Avenue West Waterloo ON N
 2L 3G1 Canada
SUMMARY:Bike Fair 2026
CLASS:PUBLIC
DESCRIPTION:J﻿oin the Sustainability Office for our annual Bike Fair as w
 e bring\ntogether campus and community partners to share information and\n
 resources to support cycling and sustainable transportation. 
DTSTAMP:20260423T175735Z
END:VEVENT
BEGIN:VEVENT
UID:69ea5d8f13a96
DTSTART;TZID=America/Toronto:20260420T120000
SEQUENCE:0
TRANSP:TRANSPARENT
DTEND;TZID=America/Toronto:20260420T130000
URL:https://uwaterloo.ca/sustainability/events/green-office-lunch-learn-exp
 loring-waterloos-environmental
SUMMARY:Green Office Lunch &amp; Learn: Exploring Waterloo's Environmental\nSus
 tainability Strategy
CLASS:PUBLIC
DESCRIPTION:Join the Sustainability Office for a virtual lunch &amp; learn to e
 xplore\nWaterloo's updated Environmental Sustainability Strategy. 
DTSTAMP:20260423T175735Z
END:VEVENT
BEGIN:VEVENT
UID:69ea5d8f14a57
DTSTART;TZID=America/Toronto:20260326T120000
SEQUENCE:0
TRANSP:TRANSPARENT
DTEND;TZID=America/Toronto:20260326T130000
URL:https://uwaterloo.ca/sustainability/events/green-office-lunch-learn-blo
 oming-biodiversity
SUMMARY:Green Office Lunch &amp; Learn: Blooming Biodiversity
CLASS:PUBLIC
DESCRIPTION:Join the Sustainability Office for a virtual lunch &amp; learn abou
 t all\nthings gardening: pollinators\, planning\, and more.
DTSTAMP:20260423T175735Z
END:VEVENT
BEGIN:VEVENT
UID:69ea5d8f15854
DTSTART;TZID=America/Toronto:20260415T130000
SEQUENCE:0
TRANSP:TRANSPARENT
DTEND;TZID=America/Toronto:20260415T150000
URL:https://uwaterloo.ca/sustainability/events/buckthorn-pull-6
SUMMARY:Buckthorn Pull
CLASS:PUBLIC
DESCRIPTION:In honour of Earth Day\, join the Sustainability Office for a b
 uckthorn\npull to help rid our campus of this highly invasive species and\
 nsupport campus naturalization efforts.
DTSTAMP:20260423T175735Z
END:VEVENT
BEGIN:VEVENT
UID:69ea5d8f168ac
DTSTART;TZID=America/Toronto:20260513T080000
SEQUENCE:0
TRANSP:TRANSPARENT
DTEND;TZID=America/Toronto:20260514T130000
URL:https://uwaterloo.ca/sustainability/events/seedling-swap-2026
LOCATION:EV3 - Environment 3 200 University Avenue West Waterloo ON N2L 3G1
  Canada
SUMMARY:Seedling Swap 2026
CLASS:PUBLIC
DESCRIPTION:It's officially growing season! From May 13-14\, the Sustainabi
 lity\nOffice will be hosting a seedling swap to engage the campus\ncommu
 nity on gardening\, food security\, and local food systems.
DTSTAMP:20260423T175735Z
END:VEVENT
END:VCALENDAR