BEGIN:VCALENDAR
VERSION:2.0
PRODID:-//Drupal iCal API//EN
X-WR-CALNAME:Events items teaser
X-WR-TIMEZONE:America/Toronto
BEGIN:VTIMEZONE
TZID:America/Toronto
X-LIC-LOCATION:America/Toronto
BEGIN:DAYLIGHT
TZNAME:EDT
TZOFFSETFROM:-0500
TZOFFSETTO:-0400
DTSTART:20210314T070000
END:DAYLIGHT
BEGIN:STANDARD
TZNAME:EST
TZOFFSETFROM:-0400
TZOFFSETTO:-0500
DTSTART:20211107T060000
END:STANDARD
END:VTIMEZONE
BEGIN:VEVENT
UID:69ead5669d3bb
DTSTART;TZID=America/Toronto:20211208T110000
SEQUENCE:0
TRANSP:TRANSPARENT
DTEND;TZID=America/Toronto:20211208T121500
URL:https://uwaterloo.ca/sustainable-aeronautics/events/wisa-talks-1
SUMMARY:WISA Talks: Evidence-based training in Aviation
CLASS:PUBLIC
DESCRIPTION:WISA Talks is a webinar series where we bring together panels o
 f\nacademic\, industry\, and government leaders to dive deep into\nchallen
 ges facing aeronautics. Our first WISA Talks will focus on\ncompetency/evi
 dence-based training research and the challenges with\nregards to training
  in the aviation industry.
DTSTAMP:20260424T022854Z
END:VEVENT
END:VCALENDAR