BEGIN:VCALENDAR
VERSION:2.0
PRODID:-//Drupal iCal API//EN
X-WR-CALNAME:Events items teaser
X-WR-TIMEZONE:America/Toronto
BEGIN:VTIMEZONE
TZID:America/Toronto
X-LIC-LOCATION:America/Toronto
BEGIN:DAYLIGHT
TZNAME:EDT
TZOFFSETFROM:-0500
TZOFFSETTO:-0400
DTSTART:20220313T070000
END:DAYLIGHT
BEGIN:STANDARD
TZNAME:EST
TZOFFSETFROM:-0400
TZOFFSETTO:-0500
DTSTART:20211107T060000
END:STANDARD
END:VTIMEZONE
BEGIN:VEVENT
UID:69eaebbcd137e
DTSTART;TZID=America/Toronto:20220406T100000
SEQUENCE:0
TRANSP:TRANSPARENT
DTEND;TZID=America/Toronto:20220406T113000
URL:https://uwaterloo.ca/sustainable-aeronautics/events/wisa-talks-4
SUMMARY:WISA Talks: Future Directions in Aeronautical Sustainability
CLASS:PUBLIC
DESCRIPTION:WISA Talks is a webinar series where we bring together panels o
 f\nacademic\, industry\, and government leaders to dive deep into\nchallen
 ges facing aeronautics. WISA Talks: Environmental Initiatives\nin Aeronaut
 ics will focus on the many environmental initiatives that\nare being devel
 oped to reduce carbon emissions &amp; minimize the\nenvironmental impacts in o
 f various aeronautics activities.
DTSTAMP:20260424T040412Z
END:VEVENT
END:VCALENDAR