BEGIN:VCALENDAR
VERSION:2.0
PRODID:-//Drupal iCal API//EN
X-WR-CALNAME:Events items teaser
X-WR-TIMEZONE:America/Toronto
BEGIN:VTIMEZONE
TZID:America/Toronto
X-LIC-LOCATION:America/Toronto
BEGIN:DAYLIGHT
TZNAME:EDT
TZOFFSETFROM:-0500
TZOFFSETTO:-0400
DTSTART:20230312T070000
END:DAYLIGHT
BEGIN:STANDARD
TZNAME:EST
TZOFFSETFROM:-0400
TZOFFSETTO:-0500
DTSTART:20231105T060000
END:STANDARD
END:VTIMEZONE
BEGIN:VEVENT
UID:69e14daee093e
DTSTART;TZID=America/Toronto:20231122T100000
SEQUENCE:0
TRANSP:TRANSPARENT
DTEND;TZID=America/Toronto:20231122T110000
URL:https://uwaterloo.ca/systems-design-engineering/events/seminar-journey-
 systems-design-engineering-sustainability
LOCATION:E5 - 6003 200 University Avenue West Waterloo ON N2L 3G1 Canada
SUMMARY:Seminar: A journey from Systems Design Engineering to Sustainabilit
 y\nat Google and Nike
CLASS:PUBLIC
DESCRIPTION:Seminar with SYDE alum Winnie Lam\, Senior Director of Sustaina
 bility\nTechnology at Nike.
DTSTAMP:20260416T205926Z
END:VEVENT
END:VCALENDAR