BEGIN:VCALENDAR
VERSION:2.0
PRODID:-//Drupal iCal API//EN
X-WR-CALNAME:Events items teaser
X-WR-TIMEZONE:America/Toronto
BEGIN:VTIMEZONE
TZID:America/Toronto
X-LIC-LOCATION:America/Toronto
BEGIN:DAYLIGHT
TZNAME:EDT
TZOFFSETFROM:-0500
TZOFFSETTO:-0400
DTSTART:20240310T070000
END:DAYLIGHT
BEGIN:STANDARD
TZNAME:EST
TZOFFSETFROM:-0400
TZOFFSETTO:-0500
DTSTART:20241103T060000
END:STANDARD
END:VTIMEZONE
BEGIN:VEVENT
UID:69eb3501d0627
DTSTART;TZID=America/Toronto:20250129T003000
SEQUENCE:0
TRANSP:TRANSPARENT
DTEND;TZID=America/Toronto:20250129T132000
URL:https://uwaterloo.ca/systems-design-engineering/events/start-culture-an
 d-life-entrepreneur
LOCATION:E7-4417 200 University Avenue West Waterloo ON N2L 3G1 Canada
SUMMARY:Start up culture and the life of an entrepreneur
CLASS:PUBLIC
DESCRIPTION:Join us for a special talk with Eric Migicovsky\, co-founder of
  Beeper\,\nto discuss his career and work as an entrepreneur.
DTSTAMP:20260424T091649Z
END:VEVENT
END:VCALENDAR