BEGIN:VCALENDAR
VERSION:2.0
PRODID:-//Drupal iCal API//EN
X-WR-CALNAME:Events items teaser
X-WR-TIMEZONE:America/Toronto
BEGIN:VTIMEZONE
TZID:America/Toronto
X-LIC-LOCATION:America/Toronto
BEGIN:DAYLIGHT
TZNAME:EDT
TZOFFSETFROM:-0500
TZOFFSETTO:-0400
DTSTART:20210314T070000
END:DAYLIGHT
BEGIN:STANDARD
TZNAME:EST
TZOFFSETFROM:-0400
TZOFFSETTO:-0500
DTSTART:20211107T060000
END:STANDARD
END:VTIMEZONE
BEGIN:VEVENT
UID:69e99f03c6398
DTSTART;TZID=America/Toronto:20220105T133000
SEQUENCE:0
TRANSP:TRANSPARENT
DTEND;TZID=America/Toronto:20220105T143000
URL:https://uwaterloo.ca/systems-design-engineering/events/single-vs-multi-
 payer-systems-and-history-healthcare-canada
SUMMARY:Single vs. Multi-Payer Systems and the History of Healthcare in Can
 ada
CLASS:PUBLIC
DESCRIPTION:SPEAKERS\n\n* \n\nDR. DAVID PRICE\, MD\nPROFESSOR AND PAST CHAI
 R\, DEPARTMENT OF FAMILY MEDICINE\, MCMASTER\nUNIVERSITY\n\n * \n\nDR. WIL
 LIAM OROVAN\, MBA\, MD\nPROFESSOR\, UROLOGY AND UROLOGICAL ONCOLOGY\, MCMA
 STER UNIVERSITY\;\nASSOCIATE DEAN\, CLINICAL SERVICES - FACULTY OF HEALTH 
 SCIENCES\,\nMCMASTER MEDICAL SCHOOL
DTSTAMP:20260423T042435Z
END:VEVENT
END:VCALENDAR