BEGIN:VCALENDAR
VERSION:2.0
PRODID:-//Drupal iCal API//EN
X-WR-CALNAME:Events items teaser
X-WR-TIMEZONE:America/Toronto
BEGIN:VTIMEZONE
TZID:America/Toronto
X-LIC-LOCATION:America/Toronto
BEGIN:DAYLIGHT
TZNAME:EDT
TZOFFSETFROM:-0500
TZOFFSETTO:-0400
DTSTART:20240310T070000
END:DAYLIGHT
BEGIN:STANDARD
TZNAME:EST
TZOFFSETFROM:-0400
TZOFFSETTO:-0500
DTSTART:20231105T060000
END:STANDARD
END:VTIMEZONE
BEGIN:VEVENT
UID:69e8819cce9c5
DTSTART;TZID=America/Toronto:20240719T193000
SEQUENCE:0
TRANSP:TRANSPARENT
DTEND;TZID=America/Toronto:20240719T220000
URL:https://uwaterloo.ca/theatres/events/uw-cappella-club-spring-2024-end-t
 erm-concert
LOCATION:HH - J.G. Hagey Hall of the Humanities 200 University Avenue West 
 Waterloo ON N2L 3G1 Canada
SUMMARY:UW A Cappella Club Spring 2024 End of Term Concert
CLASS:PUBLIC
DESCRIPTION:The UW A Cappella Club (UWACC) will be holding the Spring 2024 
 End of\nTerm Concert on July 19th and 20th in the Modern Languages Theatre
  of\nthe Arts!
DTSTAMP:20260422T080652Z
END:VEVENT
BEGIN:VEVENT
UID:69e8819cd2598
DTSTART;TZID=America/Toronto:20240720T193000
SEQUENCE:0
TRANSP:TRANSPARENT
DTEND;TZID=America/Toronto:20240720T220000
URL:https://uwaterloo.ca/theatres/events/uw-cappella-club-spring-2024-end-t
 erm-concert
LOCATION:HH - J.G. Hagey Hall of the Humanities 200 University Avenue West 
 Waterloo ON N2L 3G1 Canada
SUMMARY:UW A Cappella Club Spring 2024 End of Term Concert
CLASS:PUBLIC
DESCRIPTION:The UW A Cappella Club (UWACC) will be holding the Spring 2024 
 End of\nTerm Concert on July 19th and 20th in the Modern Languages Theatre
  of\nthe Arts!
DTSTAMP:20260422T080652Z
END:VEVENT
END:VCALENDAR