BEGIN:VCALENDAR
VERSION:2.0
PRODID:-//Drupal iCal API//EN
X-WR-CALNAME:Events items teaser
X-WR-TIMEZONE:America/Toronto
BEGIN:VTIMEZONE
TZID:America/Toronto
X-LIC-LOCATION:America/Toronto
BEGIN:DAYLIGHT
TZNAME:EDT
TZOFFSETFROM:-0500
TZOFFSETTO:-0400
DTSTART:20240310T070000
END:DAYLIGHT
BEGIN:STANDARD
TZNAME:EST
TZOFFSETFROM:-0400
TZOFFSETTO:-0500
DTSTART:20241103T060000
END:STANDARD
END:VTIMEZONE
BEGIN:VEVENT
UID:69e8819bc5322
DTSTART;TZID=America/Toronto:20241119T190000
SEQUENCE:0
TRANSP:TRANSPARENT
DTEND;TZID=America/Toronto:20241119T200000
URL:https://uwaterloo.ca/theatres/events/thowxiya-hungry-feast-dish
LOCATION:ML - Modern Languages 200 University Avenue West Waterloo ON N2L 3
 G1 Canada
SUMMARY:TH'OWXIYA The Hungry Feast Dish
CLASS:PUBLIC
DESCRIPTION:This play is based on an ancient fable (a story told to childre
 n\,\nusually by their mothers or elders\, to keep them safe in the world).
 \nThe fable’s origins are with the Kwantlen First Nation\, whose\nterrit
 ory is in southern\, interior British Columbia\, in the Fraser\nRiver Vall
 ey.
DTSTAMP:20260422T080651Z
END:VEVENT
BEGIN:VEVENT
UID:69e8819bc87a0
DTSTART;TZID=America/Toronto:20241120T100000
SEQUENCE:0
TRANSP:TRANSPARENT
DTEND;TZID=America/Toronto:20241120T110000
URL:https://uwaterloo.ca/theatres/events/thowxiya-hungry-feast-dish
LOCATION:ML - Modern Languages 200 University Avenue West Waterloo ON N2L 3
 G1 Canada
SUMMARY:TH'OWXIYA The Hungry Feast Dish
CLASS:PUBLIC
DESCRIPTION:This play is based on an ancient fable (a story told to childre
 n\,\nusually by their mothers or elders\, to keep them safe in the world).
 \nThe fable’s origins are with the Kwantlen First Nation\, whose\nterrit
 ory is in southern\, interior British Columbia\, in the Fraser\nRiver Vall
 ey.
DTSTAMP:20260422T080651Z
END:VEVENT
BEGIN:VEVENT
UID:69e8819bc911e
DTSTART;TZID=America/Toronto:20241120T121500
SEQUENCE:0
TRANSP:TRANSPARENT
DTEND;TZID=America/Toronto:20241120T131500
URL:https://uwaterloo.ca/theatres/events/thowxiya-hungry-feast-dish
LOCATION:ML - Modern Languages 200 University Avenue West Waterloo ON N2L 3
 G1 Canada
SUMMARY:TH'OWXIYA The Hungry Feast Dish
CLASS:PUBLIC
DESCRIPTION:This play is based on an ancient fable (a story told to childre
 n\,\nusually by their mothers or elders\, to keep them safe in the world).
 \nThe fable’s origins are with the Kwantlen First Nation\, whose\nterrit
 ory is in southern\, interior British Columbia\, in the Fraser\nRiver Vall
 ey.
DTSTAMP:20260422T080651Z
END:VEVENT
BEGIN:VEVENT
UID:69e8819bc9974
DTSTART;TZID=America/Toronto:20241121T103000
SEQUENCE:0
TRANSP:TRANSPARENT
DTEND;TZID=America/Toronto:20241121T113000
URL:https://uwaterloo.ca/theatres/events/thowxiya-hungry-feast-dish
LOCATION:ML - Modern Languages 200 University Avenue West Waterloo ON N2L 3
 G1 Canada
SUMMARY:TH'OWXIYA The Hungry Feast Dish
CLASS:PUBLIC
DESCRIPTION:This play is based on an ancient fable (a story told to childre
 n\,\nusually by their mothers or elders\, to keep them safe in the world).
 \nThe fable’s origins are with the Kwantlen First Nation\, whose\nterrit
 ory is in southern\, interior British Columbia\, in the Fraser\nRiver Vall
 ey.
DTSTAMP:20260422T080651Z
END:VEVENT
BEGIN:VEVENT
UID:69e8819bca16b
DTSTART;TZID=America/Toronto:20241121T123000
SEQUENCE:0
TRANSP:TRANSPARENT
DTEND;TZID=America/Toronto:20241121T133000
URL:https://uwaterloo.ca/theatres/events/thowxiya-hungry-feast-dish
LOCATION:ML - Modern Languages 200 University Avenue West Waterloo ON N2L 3
 G1 Canada
SUMMARY:TH'OWXIYA The Hungry Feast Dish
CLASS:PUBLIC
DESCRIPTION:This play is based on an ancient fable (a story told to childre
 n\,\nusually by their mothers or elders\, to keep them safe in the world).
 \nThe fable’s origins are with the Kwantlen First Nation\, whose\nterrit
 ory is in southern\, interior British Columbia\, in the Fraser\nRiver Vall
 ey.
DTSTAMP:20260422T080651Z
END:VEVENT
BEGIN:VEVENT
UID:69e8819bca974
DTSTART;TZID=America/Toronto:20241122T190000
SEQUENCE:0
TRANSP:TRANSPARENT
DTEND;TZID=America/Toronto:20241122T200000
URL:https://uwaterloo.ca/theatres/events/thowxiya-hungry-feast-dish
LOCATION:ML - Modern Languages 200 University Avenue West Waterloo ON N2L 3
 G1 Canada
SUMMARY:TH'OWXIYA The Hungry Feast Dish
CLASS:PUBLIC
DESCRIPTION:This play is based on an ancient fable (a story told to childre
 n\,\nusually by their mothers or elders\, to keep them safe in the world).
 \nThe fable’s origins are with the Kwantlen First Nation\, whose\nterrit
 ory is in southern\, interior British Columbia\, in the Fraser\nRiver Vall
 ey.
DTSTAMP:20260422T080651Z
END:VEVENT
BEGIN:VEVENT
UID:69e8819bcb094
DTSTART;TZID=America/Toronto:20241123T190000
SEQUENCE:0
TRANSP:TRANSPARENT
DTEND;TZID=America/Toronto:20241123T200000
URL:https://uwaterloo.ca/theatres/events/thowxiya-hungry-feast-dish
LOCATION:ML - Modern Languages 200 University Avenue West Waterloo ON N2L 3
 G1 Canada
SUMMARY:TH'OWXIYA The Hungry Feast Dish
CLASS:PUBLIC
DESCRIPTION:This play is based on an ancient fable (a story told to childre
 n\,\nusually by their mothers or elders\, to keep them safe in the world).
 \nThe fable’s origins are with the Kwantlen First Nation\, whose\nterrit
 ory is in southern\, interior British Columbia\, in the Fraser\nRiver Vall
 ey.
DTSTAMP:20260422T080651Z
END:VEVENT
BEGIN:VEVENT
UID:69e8819bcb90b
DTSTART;TZID=America/Toronto:20241123T140000
SEQUENCE:0
TRANSP:TRANSPARENT
DTEND;TZID=America/Toronto:20241123T150000
URL:https://uwaterloo.ca/theatres/events/thowxiya-hungry-feast-dish
LOCATION:ML - Modern Languages 200 University Avenue West Waterloo ON N2L 3
 G1 Canada
SUMMARY:TH'OWXIYA The Hungry Feast Dish
CLASS:PUBLIC
DESCRIPTION:This play is based on an ancient fable (a story told to childre
 n\,\nusually by their mothers or elders\, to keep them safe in the world).
 \nThe fable’s origins are with the Kwantlen First Nation\, whose\nterrit
 ory is in southern\, interior British Columbia\, in the Fraser\nRiver Vall
 ey.
DTSTAMP:20260422T080651Z
END:VEVENT
END:VCALENDAR