BEGIN:VCALENDAR
VERSION:2.0
PRODID:-//Drupal iCal API//EN
X-WR-CALNAME:Events items teaser
X-WR-TIMEZONE:America/Toronto
BEGIN:VTIMEZONE
TZID:America/Toronto
X-LIC-LOCATION:America/Toronto
BEGIN:DAYLIGHT
TZNAME:EDT
TZOFFSETFROM:-0500
TZOFFSETTO:-0400
DTSTART:20250309T070000
END:DAYLIGHT
BEGIN:STANDARD
TZNAME:EST
TZOFFSETFROM:-0400
TZOFFSETTO:-0500
DTSTART:20241103T060000
END:STANDARD
END:VTIMEZONE
BEGIN:VEVENT
UID:69e858990ef5d
DTSTART;TZID=America/Toronto:20250516T193000
SEQUENCE:0
TRANSP:TRANSPARENT
DTEND;TZID=America/Toronto:20250516T211500
URL:https://uwaterloo.ca/theatres/events/daily-ka-kaam-hai-standup-solo-aak
 ash-gupta
LOCATION:ML - Modern Languages 200 University Avenue West Waterloo ON N2L 3
 G1 Canada
SUMMARY:Daily Ka Kaam Hai Standup Solo By Aakash Gupta
CLASS:PUBLIC
DESCRIPTION:Daily Ka Kaam Hai Standup Solo By Aakash Gupta
DTSTAMP:20260422T051153Z
END:VEVENT
END:VCALENDAR