BEGIN:VCALENDAR
VERSION:2.0
PRODID:-//Drupal iCal API//EN
X-WR-CALNAME:Events items teaser
X-WR-TIMEZONE:America/Toronto
BEGIN:VTIMEZONE
TZID:America/Toronto
X-LIC-LOCATION:America/Toronto
BEGIN:DAYLIGHT
TZNAME:EDT
TZOFFSETFROM:-0500
TZOFFSETTO:-0400
DTSTART:20250309T070000
END:DAYLIGHT
BEGIN:STANDARD
TZNAME:EST
TZOFFSETFROM:-0400
TZOFFSETTO:-0500
DTSTART:20251102T060000
END:STANDARD
END:VTIMEZONE
BEGIN:VEVENT
UID:69e89e802b4f6
DTSTART;TZID=America/Toronto:20251127T193000
SEQUENCE:0
TRANSP:TRANSPARENT
DTEND;TZID=America/Toronto:20251127T220000
URL:https://uwaterloo.ca/theatres/events/k-w-musical-productions-wizard-oz
LOCATION:HH - J.G. Hagey Hall of the Humanities 200 University Avenue West 
 Waterloo ON N2L 3G1 Canada
SUMMARY:K-W Musical Productions: The Wizard of Oz
CLASS:PUBLIC
DESCRIPTION:Join us as we rediscover a world where courage\, heart\, and fr
 iendship\nlight the way… and there’s truly no place like home.\n 
DTSTAMP:20260422T101008Z
END:VEVENT
BEGIN:VEVENT
UID:69e89e802c7db
DTSTART;TZID=America/Toronto:20251128T193000
SEQUENCE:0
TRANSP:TRANSPARENT
DTEND;TZID=America/Toronto:20251128T220000
URL:https://uwaterloo.ca/theatres/events/k-w-musical-productions-wizard-oz
LOCATION:HH - J.G. Hagey Hall of the Humanities 200 University Avenue West 
 Waterloo ON N2L 3G1 Canada
SUMMARY:K-W Musical Productions: The Wizard of Oz
CLASS:PUBLIC
DESCRIPTION:Join us as we rediscover a world where courage\, heart\, and fr
 iendship\nlight the way… and there’s truly no place like home.\n 
DTSTAMP:20260422T101008Z
END:VEVENT
BEGIN:VEVENT
UID:69e89e802d37c
DTSTART;TZID=America/Toronto:20251129T133000
SEQUENCE:0
TRANSP:TRANSPARENT
DTEND;TZID=America/Toronto:20251129T160000
URL:https://uwaterloo.ca/theatres/events/k-w-musical-productions-wizard-oz
LOCATION:HH - J.G. Hagey Hall of the Humanities 200 University Avenue West 
 Waterloo ON N2L 3G1 Canada
SUMMARY:K-W Musical Productions: The Wizard of Oz
CLASS:PUBLIC
DESCRIPTION:Join us as we rediscover a world where courage\, heart\, and fr
 iendship\nlight the way… and there’s truly no place like home.\n 
DTSTAMP:20260422T101008Z
END:VEVENT
BEGIN:VEVENT
UID:69e89e802dbaf
DTSTART;TZID=America/Toronto:20251129T193000
SEQUENCE:0
TRANSP:TRANSPARENT
DTEND;TZID=America/Toronto:20251129T220000
URL:https://uwaterloo.ca/theatres/events/k-w-musical-productions-wizard-oz
LOCATION:HH - J.G. Hagey Hall of the Humanities 200 University Avenue West 
 Waterloo ON N2L 3G1 Canada
SUMMARY:K-W Musical Productions: The Wizard of Oz
CLASS:PUBLIC
DESCRIPTION:Join us as we rediscover a world where courage\, heart\, and fr
 iendship\nlight the way… and there’s truly no place like home.\n 
DTSTAMP:20260422T101008Z
END:VEVENT
BEGIN:VEVENT
UID:69e89e802e331
DTSTART;TZID=America/Toronto:20251130T133000
SEQUENCE:0
TRANSP:TRANSPARENT
DTEND;TZID=America/Toronto:20251130T160000
URL:https://uwaterloo.ca/theatres/events/k-w-musical-productions-wizard-oz
LOCATION:HH - J.G. Hagey Hall of the Humanities 200 University Avenue West 
 Waterloo ON N2L 3G1 Canada
SUMMARY:K-W Musical Productions: The Wizard of Oz
CLASS:PUBLIC
DESCRIPTION:Join us as we rediscover a world where courage\, heart\, and fr
 iendship\nlight the way… and there’s truly no place like home.\n 
DTSTAMP:20260422T101008Z
END:VEVENT
END:VCALENDAR