BEGIN:VCALENDAR
VERSION:2.0
PRODID:-//Drupal iCal API//EN
X-WR-CALNAME:Events items teaser
X-WR-TIMEZONE:America/Toronto
BEGIN:VTIMEZONE
TZID:America/Toronto
X-LIC-LOCATION:America/Toronto
BEGIN:DAYLIGHT
TZNAME:EDT
TZOFFSETFROM:-0500
TZOFFSETTO:-0400
DTSTART:20250309T070000
END:DAYLIGHT
BEGIN:STANDARD
TZNAME:EST
TZOFFSETFROM:-0400
TZOFFSETTO:-0500
DTSTART:20251102T060000
END:STANDARD
END:VTIMEZONE
BEGIN:VEVENT
UID:69e0ab0240976
DTSTART;TZID=America/Toronto:20251119T120000
SEQUENCE:0
TRANSP:TRANSPARENT
DTEND;TZID=America/Toronto:20251119T133000
URL:https://uwaterloo.ca/theatres/events/midsummer-nights-dream
LOCATION:ML - Modern Languages 200 University Avenue West Waterloo ON N2L 3
 G1 Canada
SUMMARY:Midsummer Night's Dream
CLASS:PUBLIC
DESCRIPTION:Our re-imagining of Shakespeare’s A MIDSUMMER NIGHT’S\nDREA
 M begins in Athens\, where a young\, queer couple openly defies a\nhomoph
 obic\, patriarchal law. Desperate to break free and forge their\nown ident
 ity\, the young lovers flee into the forest\, where\, with the\nhelp of ma
 gical fairies\, their lives are transformed.
DTSTAMP:20260416T092522Z
END:VEVENT
BEGIN:VEVENT
UID:69e0ab0243e5e
DTSTART;TZID=America/Toronto:20251121T120000
SEQUENCE:0
TRANSP:TRANSPARENT
DTEND;TZID=America/Toronto:20251121T133000
URL:https://uwaterloo.ca/theatres/events/midsummer-nights-dream
LOCATION:ML - Modern Languages 200 University Avenue West Waterloo ON N2L 3
 G1 Canada
SUMMARY:Midsummer Night's Dream
CLASS:PUBLIC
DESCRIPTION:Our re-imagining of Shakespeare’s A MIDSUMMER NIGHT’S\nDREA
 M begins in Athens\, where a young\, queer couple openly defies a\nhomoph
 obic\, patriarchal law. Desperate to break free and forge their\nown ident
 ity\, the young lovers flee into the forest\, where\, with the\nhelp of ma
 gical fairies\, their lives are transformed.
DTSTAMP:20260416T092522Z
END:VEVENT
END:VCALENDAR